BEGIN:VCALENDAR
VERSION:2.0
PRODID:-//ChamberMaster//Event Calendar 2.0//EN
METHOD:PUBLISH
X-PUBLISHED-TTL:P3D
REFRESH-INTERVAL:P3D
CALSCALE:GREGORIAN
BEGIN:VEVENT
DTSTART:20140310T213000Z
DTEND:20140310T230000Z
X-MICROSOFT-CDO-ALLDAYEVENT:FALSE
SUMMARY:Colorado Station Restaurant Grand Opening Ribbon Cutting
DESCRIPTION:Colorado Station is now open! Please join us to help welcome them and wish them well with their new business at their ribbon cutting event! You're sure to enjoy the cuisine and atmosphere at the great "Family Style Steakhouse"!
X-ALT-DESC;FMTTYPE=text/html:Colorado Station is now open! Please join us to help welcome them and wish them well with their new business at their ribbon cutting event! You&#39\;re sure to enjoy the cuisine and atmosphere at the great &quot\;Family Style Steakhouse&quot\;!
LOCATION:Colorado Station 13050 Aldrich Avenue S Burnsville\, MN 952.736.7730
UID:e.411.666754
SEQUENCE:3
DTSTAMP:20260425T163705Z
URL:http://dev.setupsite.burnsvillechamber.com/events/details/colorado-station-restaurant-grand-opening-ribbon-cutting-03-10-2014-666754
END:VEVENT

END:VCALENDAR
