BEGIN:VCALENDAR
VERSION:2.0
PRODID:-//ChamberMaster//Event Calendar 2.0//EN
METHOD:PUBLISH
X-PUBLISHED-TTL:P3D
REFRESH-INTERVAL:P3D
CALSCALE:GREGORIAN
BEGIN:VEVENT
DTSTART:20131114T220000Z
DTEND:20131114T230000Z
X-MICROSOFT-CDO-ALLDAYEVENT:FALSE
SUMMARY:County Wide Chamber Speed Networking
DESCRIPTION:The Chambers of Dakota County have teamed up for a Speed Networking session prior to the County Wide Chamber Small Business Expo and Business After Hours.  Join us at Mendakota Country Club for an hour long speed networking session led by Mark Biermann. Mark is a partner at Boomerang where they focus on helping small to mid-size businesses grow and succeed.\n\n\n\nThis is a great opportunity for you to grow your professional circle through a fun and non-traditional way of networking.  You will meet people from other Dakota County Chambers and walk away with new business leads.  By signing up for this speed networking event\, you will receive a couple of videos to help you prepare for this session and ensure that you receive the greatest return on your investment.   The first video will help you craft the best 30 second defining statement describing your business and the second video will educate you on how to identify your best prospects.
X-ALT-DESC;FMTTYPE=text/html:<span style="font-size: 12px\;"><span style="font-family: arial\;">The Chambers of Dakota County have teamed up for a Speed Networking session prior to the County Wide Chamber Small Business Expo and Business After Hours.&nbsp\; Join us at Mendakota Country Club for an hour long speed networking session led by Mark Biermann. Mark is a partner at Boomerang where they focus on helping small to mid-size businesses grow and succeed.<br />\n<br />\nThis is a great opportunity for you to&nbsp\;grow your professional circle through a fun and non-traditional way of networking.&nbsp\; You will meet people from other Dakota County Chambers and walk away with new business leads.&nbsp\; By signing up for this speed networking event\, you will receive a couple of videos to help you prepare for this session and ensure that you receive the greatest return on your investment. &nbsp\;&nbsp\;The first video will help you craft the best 30 second defining statement describing your business and the second video will educate you on how to identify your best prospects.&nbsp\;</span></span><br />\n<br />\n
LOCATION:Location: Mendakota Country Club (2075 Mendakota Road\, Mendota Heights)
UID:e.411.666709
SEQUENCE:3
DTSTAMP:20260425T230416Z
URL:http://dev.setupsite.burnsvillechamber.com/events/details/county-wide-chamber-speed-networking-11-14-2013-666709
END:VEVENT

END:VCALENDAR
