BEGIN:VCALENDAR
VERSION:2.0
PRODID:-//ChamberMaster//Event Calendar 2.0//EN
METHOD:PUBLISH
X-PUBLISHED-TTL:P3D
REFRESH-INTERVAL:P3D
CALSCALE:GREGORIAN
BEGIN:VEVENT
DTSTART:20140430T133000Z
DTEND:20140501T040000Z
X-MICROSOFT-CDO-ALLDAYEVENT:FALSE
SUMMARY:Dakota Electric Spring 2014 Comm./Indust. Mtg.: Threats to CyberSecurity
DESCRIPTION:Businesses are built around wired and wireless networks. But from networks\, entirely new\, dangerous and destructive challenges have emerged: high-tech crime\, cyber-based terrorism\, espionage\, computer intrusions\, and major cyber fraud. Criminal and national security threats strike from afar with potentially devastating consequences. Today\, cybersecurity is your newest challenge. Educate appropriate staff about this new threat so they can help protect your business. Speakers are from the FBI and Great River Energy.
X-ALT-DESC;FMTTYPE=text/html:Businesses are built around wired and wireless networks. But from networks\, entirely new\, dangerous and destructive challenges have emerged: high-tech crime\, cyber-based terrorism\, espionage\, computer intrusions\, and major cyber fraud. Criminal and national security threats strike from afar with potentially devastating consequences. Today\, cybersecurity is your newest challenge. Educate appropriate staff about this new threat so they can help protect your business. Speakers are from the FBI and Great River Energy.
LOCATION:Brackett's Crossing Country Club\, 17976 Judicial Road\, Lakeville
UID:e.411.666769
SEQUENCE:3
DTSTAMP:20260425T162934Z
URL:http://dev.setupsite.burnsvillechamber.com/events/details/dakota-electric-spring-2014-comm-indust-mtg-threats-to-cybersecurity-04-30-2014-666769
END:VEVENT

END:VCALENDAR
