BEGIN:VCALENDAR
VERSION:2.0
PRODID:-//ChamberMaster//Event Calendar 2.0//EN
METHOD:PUBLISH
X-PUBLISHED-TTL:P3D
REFRESH-INTERVAL:P3D
CALSCALE:GREGORIAN
BEGIN:VEVENT
DTSTART:20140605T210000Z
DTEND:20140606T000000Z
X-MICROSOFT-CDO-ALLDAYEVENT:FALSE
SUMMARY:DARTS Open House
DESCRIPTION:By 2020\, for the first time in Minnesota's history\, more citizens will be 65+ years old than those of school-age. The nonprofit DARTS has been evolving over the past 40 years to help serve this growing senior citizen population in Dakota County.\n\n\n\nDARTS invites the public to help celebrate its evolution and anniversary at a community Open House. FREE food from Buca di Beppo will be provided along with musical entertainment (guitarist/singer/songwriter Dave Hudson) and family-friendly activities for children.
X-ALT-DESC;FMTTYPE=text/html:By 2020\, for the first time in Minnesota&#39\;s history\, more citizens will be 65+ years old than those of school-age. The nonprofit DARTS has been evolving over the past 40 years to help serve this growing senior citizen population in Dakota County.<br />\n<br />\nDARTS invites the public to help celebrate its evolution and anniversary at a community Open House. FREE food from Buca di Beppo will be provided along with musical entertainment (guitarist/singer/songwriter Dave Hudson) and family-friendly activities for children.
LOCATION:DARTS Campus 1645 Marthaler Lane West St. Paul
UID:e.411.666803
SEQUENCE:3
DTSTAMP:20260425T110255Z
URL:http://dev.setupsite.burnsvillechamber.com/events/details/darts-open-house-06-05-2014-666803
END:VEVENT

END:VCALENDAR
