BEGIN:VCALENDAR
VERSION:2.0
PRODID:-//ChamberMaster//Event Calendar 2.0//EN
METHOD:PUBLISH
X-PUBLISHED-TTL:P3D
REFRESH-INTERVAL:P3D
CALSCALE:GREGORIAN
BEGIN:VEVENT
DTSTART:20140212T133000Z
DTEND:20140212T153000Z
X-MICROSOFT-CDO-ALLDAYEVENT:FALSE
SUMMARY:Do It Right The First Time: Common Business Problems & How to Avoid Them
DESCRIPTION:What separates successful businesses from those that fail? Most small businesses struggle with similar challenges\, but successful businesses overcome them.  Learn ideas and solutions for common small business problems from professionals who advise business owners on a daily basis.
X-ALT-DESC;FMTTYPE=text/html:What separates successful businesses from those that fail? Most small businesses struggle with similar challenges\, but successful businesses overcome them.&nbsp\; Learn ideas and solutions for common small business problems from professionals who advise business owners on a daily basis.
LOCATION:Hamline University Minneapolis 1600 Utica Avenue South St. Louis Park\, MN 55416
UID:e.411.666748
SEQUENCE:3
DTSTAMP:20260425T175326Z
URL:http://dev.setupsite.burnsvillechamber.com/events/details/do-it-right-the-first-time-common-business-problems-how-to-avoid-them-02-12-2014-666748
END:VEVENT

END:VCALENDAR
