BEGIN:VCALENDAR
VERSION:2.0
PRODID:-//ChamberMaster//Event Calendar 2.0//EN
METHOD:PUBLISH
X-PUBLISHED-TTL:P3D
REFRESH-INTERVAL:P3D
CALSCALE:GREGORIAN
BEGIN:VEVENT
DTSTART:20140420T150000Z
DTEND:20140420T200000Z
X-MICROSOFT-CDO-ALLDAYEVENT:FALSE
SUMMARY:Easter Brunch
DESCRIPTION:EASTER BRUNCH\n\n10AM 3PM\n\nBreakfast will be served 7-10am\n\n$20.95 Adults includes (1) Coffee or Juice\n\n$10.95 Children ages 4-10 (under 4 is free)\n\n\n	$4 Bloody Mary Special\n	Fruit and Vegetable Display\n	Breakfast Breads\n	Easter Desserts\n	Assorted Salads \n	Bacon and Sausage\n	Omelet Station\n	Waffle Station\n	Hash brown Casserole\n	Roasted Baby Red Potatoes\n	Cape Cod Vegetable Blend\n	Monterey Chicken\n	Orange Roughy\n	Shepard's Pie\n	Ham and Beef Carvings\n	Kid's Buffet and Easter Egg Hunt
X-ALT-DESC;FMTTYPE=text/html:<h1 style="margin: 0px\; color: rgb(70\, 18\, 28)\; font-family: swiss\; font-size: 30px\;">EASTER BRUNCH<br />\n10AM&ndash\;3PM<br />\nBreakfast will be served 7-10am</h1>\n\n<h3 style="margin: 0px\; color: rgb(70\, 18\, 28)\; font-family: swiss\; font-size: 20px\;">$20.95 Adults includes (1) Coffee or Juice<br />\n<span style="font-size: 13px\;">$10.95 Children ages 4-10 (under 4 is free)</span></h3>\n\n<ul style="color: rgb(105\, 104\, 91)\; font-family: swiss\; font-size: 15.45px\;">\n	<li><span style="font-size: 14px\;"><span style="color: rgb(0\, 0\, 0)\;">$4 Bloody Mary Special</span></span></li>\n	<li><span style="font-size: 14px\;"><span style="color: rgb(0\, 0\, 0)\;">Fruit and Vegetable Display</span></span></li>\n	<li><span style="font-size: 14px\;"><span style="color: rgb(0\, 0\, 0)\;">Breakfast Breads</span></span></li>\n	<li><span style="font-size: 14px\;"><span style="color: rgb(0\, 0\, 0)\;">Easter Desserts</span></span></li>\n	<li><span style="font-size: 14px\;"><span style="color: rgb(0\, 0\, 0)\;">Assorted Salads&nbsp\;</span></span></li>\n	<li><span style="font-size: 14px\;"><span style="color: rgb(0\, 0\, 0)\;">Bacon and Sausage</span></span></li>\n	<li><span style="font-size: 14px\;"><span style="color: rgb(0\, 0\, 0)\;">Omelet Station</span></span></li>\n	<li><span style="font-size: 14px\;"><span style="color: rgb(0\, 0\, 0)\;">Waffle Station</span></span></li>\n	<li><span style="font-size: 14px\;"><span style="color: rgb(0\, 0\, 0)\;">Hash brown Casserole</span></span></li>\n	<li><span style="font-size: 14px\;"><span style="color: rgb(0\, 0\, 0)\;">Roasted Baby Red Potatoes</span></span></li>\n	<li><span style="font-size: 14px\;"><span style="color: rgb(0\, 0\, 0)\;">Cape Cod Vegetable Blend</span></span></li>\n	<li><span style="font-size: 14px\;"><span style="color: rgb(0\, 0\, 0)\;">Monterey Chicken</span></span></li>\n	<li><span style="font-size: 14px\;"><span style="color: rgb(0\, 0\, 0)\;">Orange Roughy</span></span></li>\n	<li><span style="font-size: 14px\;"><span style="color: rgb(0\, 0\, 0)\;">Shepard&rsquo\;s Pie</span></span></li>\n	<li><span style="font-size: 14px\;"><span style="color: rgb(0\, 0\, 0)\;">Ham and Beef Carvings</span></span></li>\n	<li><span style="font-size: 14px\;"><span style="color: rgb(0\, 0\, 0)\;">Kid&rsquo\;s Buffet and Easter Egg Hunt</span></span></li>\n</ul>\n
LOCATION:14201 Nicollet Ave S Burnsville\, MN
UID:e.411.666781
SEQUENCE:3
DTSTAMP:20260425T162113Z
URL:http://dev.setupsite.burnsvillechamber.com/events/details/easter-brunch-04-20-2014-666781
END:VEVENT

END:VCALENDAR
