BEGIN:VCALENDAR
VERSION:2.0
PRODID:-//ChamberMaster//Event Calendar 2.0//EN
METHOD:PUBLISH
X-PUBLISHED-TTL:P3D
REFRESH-INTERVAL:P3D
CALSCALE:GREGORIAN
BEGIN:VEVENT
DTSTART:20140331T130000Z
DTEND:20140404T220000Z
X-MICROSOFT-CDO-ALLDAYEVENT:FALSE
SUMMARY:Event at Pro Staff Personnel Services
DESCRIPTION:Assembly/Manufacturing Job Fair in Burnsville!\n\nStop in\, call\, or apply online\n\nWe are currently hiring manufacturing talent for the following positions:\n\n* Assemblers\n\n* Welders\n\n* Warehouse\n\n* CNC Machinists and many more!\n\nBring a resume and meet with a recruiter anytime\, M-F between 8:00AM and 5:00PM\n\n\n\n\n\nRequired Skills:\n\n\n\n* Minimum 6 months - 1 year of warehouse or light industrial experience\n\n* Ability to work in a fast-paced environment\n\n* Stable work history\n\n* Reliability and dependability\n\n* High school diploma or equivalent
X-ALT-DESC;FMTTYPE=text/html:<strong>Assembly/Manufacturing Job Fair in Burnsville!</strong>\n\n<p>Stop in\, call\, or apply online</p>\n\n<p>We are currently hiring manufacturing talent for the following positions:<br />\n* Assemblers<br />\n* Welders<br />\n* Warehouse<br />\n* CNC Machinists and many more!</p>\n\n<p>Bring a resume and meet with a recruiter anytime\, M-F between 8:00AM and 5:00PM<br />\n<br />\n<br />\n<strong>Required Skills:</strong><br />\n<br />\n* Minimum 6 months&nbsp\;- 1 year of warehouse or light industrial experience<br />\n* Ability to work in a fast-paced environment<br />\n* Stable work history<br />\n* Reliability and dependability<br />\n* High school diploma or equivalent</p>\n
LOCATION:2999 Country Rd. 42 W. Suite 220 Burnsville\, MN 55306 (952) 892-3240
UID:e.411.666776
SEQUENCE:3
DTSTAMP:20260425T145051Z
URL:http://dev.setupsite.burnsvillechamber.com/events/details/event-at-pro-staff-personnel-services-03-31-2014-666776
END:VEVENT

END:VCALENDAR
