BEGIN:VCALENDAR
VERSION:2.0
PRODID:-//ChamberMaster//Event Calendar 2.0//EN
METHOD:PUBLISH
X-PUBLISHED-TTL:P3D
REFRESH-INTERVAL:P3D
CALSCALE:GREGORIAN
BEGIN:VEVENT
DTSTART:20140206T233000Z
DTEND:20140207T010000Z
X-MICROSOFT-CDO-ALLDAYEVENT:FALSE
SUMMARY:Fairview Ridges Hospital Specialty Care Expansion Campaign Kick-Off Event
DESCRIPTION:Fairview Ridges Hospital's Board of Directors and President Beth Krehbiel invite you to attend this special kick-off event. Event speakers will share the exciting details of the current $60 million dollar hospital expansion and announce the community campaign related to the project. The volunteer committee assisting with the campaign includes area leaders: Butch Ames\, John Adamich\, Dennis Deissner\, Maria Delmoro-Hultman\, Peggy Johnson\, Tom Mork\, Dick Sjoquist and Tom Smith. The event will take place in the Ridges Caf  dining room\; a short program will take place at 6:00 PM. Refreshments will be served. No RSVP needed.
X-ALT-DESC;FMTTYPE=text/html:Fairview Ridges Hospital&#39\;s Board of Directors and President Beth Krehbiel invite you to attend this special kick-off event. Event speakers will share the exciting details of the current $60 million dollar hospital expansion and announce the community campaign related to the project. The volunteer committee assisting with the campaign includes area leaders: Butch Ames\, John Adamich\, Dennis Deissner\, Maria Delmoro-Hultman\, Peggy Johnson\, Tom Mork\, Dick Sjoquist and Tom Smith. The event will take place in the Ridges Caf&eacute\; dining room\; a short program will take place at 6:00 PM. Refreshments will be served. No RSVP needed. 
LOCATION:Fairview Ridges Hospital Ridges Cafe Dining Room 201 E Nicollet Blvd. Burnsville\, MN 55337
UID:e.411.666738
SEQUENCE:3
DTSTAMP:20260425T175734Z
URL:http://dev.setupsite.burnsvillechamber.com/events/details/fairview-ridges-hospital-specialty-care-expansion-campaign-kick-off-event-02-06-2014-666738
END:VEVENT

END:VCALENDAR
