BEGIN:VCALENDAR
VERSION:2.0
PRODID:-//ChamberMaster//Event Calendar 2.0//EN
METHOD:PUBLISH
X-PUBLISHED-TTL:P3D
REFRESH-INTERVAL:P3D
CALSCALE:GREGORIAN
BEGIN:VEVENT
DTSTART;VALUE=DATE:20141102
DTEND;VALUE=DATE:20141104
TRANSP:TRANSPARENT
X-MICROSOFT-CDO-ALLDAYEVENT:TRUE
SUMMARY:Feast! Festival and Trade Show
DESCRIPTION:On Sunday\, November 2nd\, farmers and food makers will showcase their products at over 100 exhibit booths\, chefs will demonstrate holiday cooking\, and food makers and educators will present an array of interesting workshops. The festival will include a children's activity area\, live music\, and a local beer and wine tasting event. (Wine and beer portion has additional cost). Monday\, November 3rd is closed to the general public and we will bring in buyers who will be inspired\, learn about a wide range of regionally grown and made products\, meet food entrepreneurs and enterprising farmers\, see what new products are being developed\, and learn how to integrate local foods into product lists and menus. Food entrepreneurs and farmers will meet buyers\, and access a range of workshops that provide information on topics critical to growing your local foods business such as product development\, marketing\, labeling\, regulations\, distribution\, and sale.
X-ALT-DESC;FMTTYPE=text/html:On Sunday\, November 2nd\, farmers and food makers will showcase their products at over 100 exhibit booths\, chefs will demonstrate holiday cooking\, and food makers and educators will present an array of interesting workshops. The festival will include a children&#39\;s activity area\, live music\, and a local beer and wine tasting event. (Wine and beer portion has additional cost). Monday\, November 3rd is closed to the general public and we will bring in buyers who will be inspired\, learn about a wide range of regionally grown and made products\, meet food entrepreneurs and enterprising farmers\, see what new products are being developed\, and learn how to integrate local foods into product lists and menus. Food entrepreneurs and farmers will meet buyers\, and access a range of workshops that provide information on topics critical to growing your local foods business such as product development\, marketing\, labeling\, regulations\, distribution\, and sale.
LOCATION:Mayo Civic Center 30 Civic Center Dr SE Rochester\, Minnesota 55902
UID:e.411.666876
SEQUENCE:3
DTSTAMP:20260425T021204Z
URL:http://dev.setupsite.burnsvillechamber.com/events/details/feast-festival-and-trade-show-11-02-2014-666876
END:VEVENT

END:VCALENDAR
