BEGIN:VCALENDAR
VERSION:2.0
PRODID:-//ChamberMaster//Event Calendar 2.0//EN
METHOD:PUBLISH
X-PUBLISHED-TTL:P3D
REFRESH-INTERVAL:P3D
CALSCALE:GREGORIAN
BEGIN:VEVENT
DTSTART:20140329T150000Z
DTEND:20140329T190000Z
X-MICROSOFT-CDO-ALLDAYEVENT:FALSE
SUMMARY:Free Electronics Recycling
DESCRIPTION:Do you have electronic junk around your home or business? Of course you do! The Burnsville U12 Girls Soccer team is hosting a FREE Electronics Recycling event as a fundraiser. They will take almost anything electronic that has a cord or battery.
X-ALT-DESC;FMTTYPE=text/html:Do you have electronic junk around your home or business? Of course you do! The Burnsville U12 Girls Soccer team is hosting a FREE Electronics Recycling event as a fundraiser. They will take almost anything electronic that has a cord or battery.
LOCATION:LA Fitness parking lot - County Roads 42 and 5
UID:e.411.666767
SEQUENCE:3
DTSTAMP:20260425T163309Z
URL:http://dev.setupsite.burnsvillechamber.com/events/details/free-electronics-recycling-03-29-2014-666767
END:VEVENT

END:VCALENDAR
