BEGIN:VCALENDAR
VERSION:2.0
PRODID:-//ChamberMaster//Event Calendar 2.0//EN
METHOD:PUBLISH
X-PUBLISHED-TTL:P3D
REFRESH-INTERVAL:P3D
CALSCALE:GREGORIAN
BEGIN:VEVENT
DTSTART:20130911T130000Z
DTEND:20130911T150000Z
X-MICROSOFT-CDO-ALLDAYEVENT:FALSE
SUMMARY:Free Seminar: Presentations that WOW your Audience!\,
DESCRIPTION:On Wednesday\, September 11  you can learn captivating delivery tips by attending Presentations that WOW your Audience!\, a MarketSmart Academy class for mid-sized business owners and marketing professionals. \n\n	\n\n	Presentations that WOW your Audience! will be presented by leadership and learning\, and developmental consultant Sheila Krejci who integrates current research on the adult brain to ensure learners retain the content.
X-ALT-DESC;FMTTYPE=text/html:<p class="MsoNormal" style="margin: 0in 0in 0pt\;">\n	<font face="Times New Roman" size="3">&nbsp\;On Wednesday\, September 11 &nbsp\;you can learn captivating delivery tips by attending <i>Presentations that WOW your Audience!</i>\, a <st1:place w:st="on"><st1:placename w:st="on">MarketSmart</st1:placename> <st1:placetype w:st="on">Academy</st1:placetype></st1:place> class for mid-sized business owners and marketing professionals. </font></p>\n<p class="MsoNormal" style="margin: 0in 0in 0pt\;">\n	<o:p></o:p></p>\n<p class="MsoNormal" style="margin: 0in 0in 0pt\;">\n	<font size="3"><font face="Times New Roman"><i>Presentations that WOW your Audience!</i> will be presented by leadership and learning\, and developmental consultant Sheila Krejci who integrates current research on the adult brain to ensure learners retain the content.</font></font></p>\n
LOCATION:Media Relations Inc. Headquarters 350 Burnsville Parkway Suite 350 Burnsville MN 55337
UID:e.411.666692
SEQUENCE:3
DTSTAMP:20260426T022644Z
URL:http://dev.setupsite.burnsvillechamber.com/events/details/free-seminar-presentations-that-wow-your-audience-09-11-2013-666692
END:VEVENT

END:VCALENDAR
