BEGIN:VCALENDAR
VERSION:2.0
PRODID:-//ChamberMaster//Event Calendar 2.0//EN
METHOD:PUBLISH
X-PUBLISHED-TTL:P3D
REFRESH-INTERVAL:P3D
CALSCALE:GREGORIAN
BEGIN:VEVENT
DTSTART;VALUE=DATE:20200220
DTEND;VALUE=DATE:20200222
TRANSP:TRANSPARENT
X-MICROSOFT-CDO-ALLDAYEVENT:TRUE
SUMMARY:Gaining the Ethical Edge
DESCRIPTION:Learn how an ethical framework gives your company a competitive advantage. In this unique 2-day training\, you'll explore best practices and case studies in ethical decision-making\, leadership\, culture\, the changing landscape of corporate social responsibility\, consumer expectations - and more! Counts for 7.75 CLE credits or 9.25 CPE credits.
X-ALT-DESC;FMTTYPE=text/html:Learn how an ethical framework gives your company a competitive advantage. In this unique 2-day training\, you&rsquo\;ll explore best practices and case studies in ethical decision-making\, leadership\, culture\, the changing landscape of corporate social responsibility\, consumer expectations - and more! Counts for 7.75 CLE credits or 9.25 CPE credits.
LOCATION:University of St. Thomas Opus College of Business 1000 LaSalle Avenue Minneapolis\, MN 55403
UID:e.411.668667
SEQUENCE:3
DTSTAMP:20260420T085035Z
URL:http://dev.setupsite.burnsvillechamber.com/events/details/gaining-the-ethical-edge-668667
END:VEVENT

END:VCALENDAR
