BEGIN:VCALENDAR
VERSION:2.0
PRODID:-//ChamberMaster//Event Calendar 2.0//EN
METHOD:PUBLISH
X-PUBLISHED-TTL:P3D
REFRESH-INTERVAL:P3D
CALSCALE:GREGORIAN
BEGIN:VEVENT
DTSTART:20140213T140000Z
DTEND:20140213T160000Z
X-MICROSOFT-CDO-ALLDAYEVENT:FALSE
SUMMARY:Getting a Return on the Investment of Your Lifetime
DESCRIPTION:Event Description:\n\nHow do you grow your company with the end in mind? Learn strategies to get the most from your business when you leave it. Find out methods to create a self-sustaining operation that increases in value despite your participation. Identify common pitfalls and best practices. This is an interactive panel discussion with audience questions.\n\n * Grow your company with the end in mind: Identify the legacy you will leave\n\n * Develop a strategy and leadership team that creates value without you\n\n * Identity how goals\, expectations\, and interests of each owner and their families should affect strategic planning\n\n * Deal with emotional and relationship issues to avoid common frustrations and misunderstandings\n\n * Learn options when an owner's children do not possess required skills\n\n * Identify ways to increase the value of your business before and when you leave it\n\n * Understand common errors from unplanned owner exits and poor buy-sell agreements\n\n * Create a plan for your succession: What a good leadership transition looks like\n\n * Learn best practices in leadership transition planning: common pitfalls\, timing\, and structures
X-ALT-DESC;FMTTYPE=text/html:<strong><span style="font-size: 9.5pt\;"><span style="font-family: arial\,sans-serif\;">Event Description</span></span></strong><span style="font-size: 9.5pt\;"><span style="font-family: arial\,sans-serif\;">:</span></span><br />\n<span style="font-size: 9.5pt\;"><span style="font-family: arial\,sans-serif\;">How do you grow your company with the end in mind? Learn strategies to get the most from your business when you leave it. Find out methods to create a self-sustaining operation that increases in value despite your participation. Identify common pitfalls and best practices. This is an interactive panel discussion with audience questions.</span></span><br />\n<span style="font-size: 9.5pt\;"><span style="font-family: arial\,sans-serif\;">&nbsp\;* Grow your company with the end in mind: Identify the legacy you will leave</span></span><br />\n<span style="font-size: 9.5pt\;"><span style="font-family: arial\,sans-serif\;">&nbsp\;* Develop a strategy and leadership team that creates value without you</span></span><br />\n<span style="font-size: 9.5pt\;"><span style="font-family: arial\,sans-serif\;">&nbsp\;* Identity how goals\, expectations\, and interests of each owner and their families should affect strategic planning</span></span><br />\n<span style="font-size: 9.5pt\;"><span style="font-family: arial\,sans-serif\;">&nbsp\;* Deal with emotional and relationship issues to avoid common frustrations and misunderstandings</span></span><br />\n<span style="font-size: 9.5pt\;"><span style="font-family: arial\,sans-serif\;">&nbsp\;* Learn options when an owner&rsquo\;s children do not possess required skills</span></span><br />\n<span style="font-size: 9.5pt\;"><span style="font-family: arial\,sans-serif\;">&nbsp\;* Identify ways to increase the value of your business before and when you leave it</span></span><br />\n<span style="font-size: 9.5pt\;"><span style="font-family: arial\,sans-serif\;">&nbsp\;* Understand common errors from unplanned owner exits and poor buy-sell agreements</span></span><br />\n<span style="font-size: 9.5pt\;"><span style="font-family: arial\,sans-serif\;">&nbsp\;* Create a plan for your succession: What a good leadership transition looks like</span></span><br />\n<span style="font-size: 9.5pt\;"><span style="font-family: arial\,sans-serif\;">&nbsp\;* Learn best practices in leadership transition planning: common pitfalls\, timing\, and structures</span></span><br />\n
LOCATION:Thompson Hall Santi Cerny & Dooley\, 20th Floor of AT&T Tower\, 901 Marquette Ave S\, Minneapolis\, Minnesota 55402
UID:e.411.666749
SEQUENCE:3
DTSTAMP:20260425T175736Z
URL:http://dev.setupsite.burnsvillechamber.com/events/details/getting-a-return-on-the-investment-of-your-lifetime-02-13-2014-666749
END:VEVENT

END:VCALENDAR
