BEGIN:VCALENDAR
VERSION:2.0
PRODID:-//ChamberMaster//Event Calendar 2.0//EN
METHOD:PUBLISH
X-PUBLISHED-TTL:P3D
REFRESH-INTERVAL:P3D
CALSCALE:GREGORIAN
BEGIN:VEVENT
DTSTART:20140517T140000Z
DTEND:20140517T170000Z
X-MICROSOFT-CDO-ALLDAYEVENT:FALSE
SUMMARY:Girls Aviation Day
DESCRIPTION:Girls Aviation Day Saturday\, May 17 09:00 AM - 12:00 PM 2014 Girls Aviation Day was established to provide local females with experiences not available in the classroom. This event is to encourage girls towards the fields of science and aerospace and inspire a passion for flying. See www.penguinflight.net/girls-aviation-day for more information. Kids ages 8-17 eligible for an EAA Young Eagles flight\, please RSVP.
X-ALT-DESC;FMTTYPE=text/html:Girls Aviation Day Saturday\, May 17 09:00 AM - 12:00 PM 2014 Girls Aviation Day was established to provide local females with experiences not available in the classroom. This event is to encourage girls towards the fields of science and aerospace and inspire a passion for flying. See www.penguinflight.net/girls-aviation-day for more information. Kids ages 8-17 eligible for an EAA Young Eagles flight\, please RSVP.
LOCATION:Airlake Airport\, 22100 Hamburg Ave.\, Lakeville\, MN 55044
UID:e.411.666798
SEQUENCE:3
DTSTAMP:20260425T131429Z
URL:http://dev.setupsite.burnsvillechamber.com/events/details/girls-aviation-day-05-17-2014-666798
END:VEVENT

END:VCALENDAR
