BEGIN:VCALENDAR
VERSION:2.0
PRODID:-//ChamberMaster//Event Calendar 2.0//EN
METHOD:PUBLISH
X-PUBLISHED-TTL:P3D
REFRESH-INTERVAL:P3D
CALSCALE:GREGORIAN
BEGIN:VEVENT
DTSTART:20140327T180000Z
DTEND:20140327T210000Z
X-MICROSOFT-CDO-ALLDAYEVENT:FALSE
SUMMARY:Grand Ol' Carnival
DESCRIPTION:Hurry\, Hurry\, Step Right Up! Grandparents and parents -- are you looking for something fun to do with the kids during spring break? Come on down to the "Grand Ol' Carnival." Carnival games\, prizes\, open gym\, arts and crafts\, cookie decorating and more! Sponsored by the City of Burnsville and ISD 191 Community Education. Register by Monday\, March 24. To register visit www.burnsville.org/recreation and click "Online Registration" on left.
X-ALT-DESC;FMTTYPE=text/html:Hurry\, Hurry\, Step Right Up! Grandparents and parents -- are you looking for something fun to do with the kids during spring break? Come on down to the &quot\;Grand Ol&#39\; Carnival.&quot\; Carnival games\, prizes\, open gym\, arts and crafts\, cookie decorating and more! Sponsored by the City of Burnsville and ISD 191 Community Education. Register by Monday\, March 24. To register visit www.burnsville.org/recreation and click &quot\;Online Registration&quot\; on left.
LOCATION:Nicollet Junior High 400 E. 134th St. Burnsville\, MN 55337
UID:e.411.666768
SEQUENCE:3
DTSTAMP:20260425T163442Z
URL:http://dev.setupsite.burnsvillechamber.com/events/details/grand-ol-carnival-03-27-2014-666768
END:VEVENT

END:VCALENDAR
