BEGIN:VCALENDAR
VERSION:2.0
PRODID:-//ChamberMaster//Event Calendar 2.0//EN
METHOD:PUBLISH
X-PUBLISHED-TTL:P3D
REFRESH-INTERVAL:P3D
CALSCALE:GREGORIAN
BEGIN:VEVENT
DTSTART:20150923T140000Z
DTEND:20150923T150000Z
X-MICROSOFT-CDO-ALLDAYEVENT:FALSE
SUMMARY:Grand Opening/Ribbon Cutting @ Chick Fil A
DESCRIPTION:Grand Opening and Ribbon Cutting @ Chick Fil A
X-ALT-DESC;FMTTYPE=text/html:Grand Opening and Ribbon Cutting @ Chick Fil A
LOCATION:1200 Co Rd 42 W Burnsville\, MN 55337 View A Map
UID:e.411.666977
SEQUENCE:3
DTSTAMP:20260424T101618Z
URL:http://dev.setupsite.burnsvillechamber.com/events/details/grand-opening-ribbon-cutting-chick-fil-a-09-23-2015-666977
END:VEVENT

END:VCALENDAR
