BEGIN:VCALENDAR
VERSION:2.0
PRODID:-//ChamberMaster//Event Calendar 2.0//EN
METHOD:PUBLISH
X-PUBLISHED-TTL:P3D
REFRESH-INTERVAL:P3D
CALSCALE:GREGORIAN
BEGIN:VEVENT
DTSTART:20140612T190000Z
DTEND:20140613T010000Z
X-MICROSOFT-CDO-ALLDAYEVENT:FALSE
SUMMARY:Grand Re-Opening @ Above All Hardwood Flooring & Carpet
DESCRIPTION:Let's congratulate Above All on their Re-Grand Opening by stopping in this Thursday for some good food\, entertainment\, games\, music\, raffles & specials in a family friendly environment!
X-ALT-DESC;FMTTYPE=text/html:Let&#39\;s congratulate Above All on their Re-Grand Opening by stopping in this Thursday for some good food\, entertainment\, games\, music\, raffles &amp\; specials in a family friendly environment!
LOCATION:Above All Hardwood Flooring & Carpet 16861 Welcome Ave S Prior Lake\, MN
UID:e.411.666807
SEQUENCE:3
DTSTAMP:20260425T110631Z
URL:http://dev.setupsite.burnsvillechamber.com/events/details/grand-re-opening-above-all-hardwood-flooring-carpet-06-12-2014-666807
END:VEVENT

END:VCALENDAR
