BEGIN:VCALENDAR
VERSION:2.0
PRODID:-//ChamberMaster//Event Calendar 2.0//EN
METHOD:PUBLISH
X-PUBLISHED-TTL:P3D
REFRESH-INTERVAL:P3D
CALSCALE:GREGORIAN
BEGIN:VEVENT
DTSTART:20150128T163000Z
DTEND:20150128T180000Z
X-MICROSOFT-CDO-ALLDAYEVENT:FALSE
SUMMARY:Grow Your Business with Email and Social Media
DESCRIPTION:Use email and social media to engage with existing customers and reach new prospects. Get a greater understanding of basic marketing goals and objectives\; what a campaign is and how to promote it\; and discover simple tips to get your messages opened\, read and shared. Sponsored in part by South Metro SCORE.
X-ALT-DESC;FMTTYPE=text/html:Use email and social media to engage with existing customers and reach new prospects. Get a greater understanding of basic marketing goals and objectives\; what a campaign is and how to promote it\; and discover simple tips to get your messages opened\, read and shared. Sponsored in part by South Metro SCORE.
LOCATION:Dakota County Library-Galaxie 14955 Galaxie Ave. Apple Valley\, MN 55124
UID:e.411.666906
SEQUENCE:3
DTSTAMP:20260424T225233Z
URL:http://dev.setupsite.burnsvillechamber.com/events/details/grow-your-business-with-email-and-social-media-01-28-2015-666906
END:VEVENT

END:VCALENDAR
