BEGIN:VCALENDAR
VERSION:2.0
PRODID:-//ChamberMaster//Event Calendar 2.0//EN
METHOD:PUBLISH
X-PUBLISHED-TTL:P3D
REFRESH-INTERVAL:P3D
CALSCALE:GREGORIAN
BEGIN:VEVENT
DTSTART:20140613T210000Z
DTEND:20140613T220000Z
X-MICROSOFT-CDO-ALLDAYEVENT:FALSE
SUMMARY:Hair District Ribbon Cutting
DESCRIPTION:Come and join us as we welcome another new business to Burnsville! \n\n\n\nThis Ribbon Cutting event is a kick-off to Hair District's Grand Opening celebration on Saturday\, June 14.
X-ALT-DESC;FMTTYPE=text/html:Come and join us as we welcome <strong>another new business</strong> to Burnsville!&nbsp\;<br />\n<br />\nThis Ribbon Cutting event is a&nbsp\;kick-off to Hair District&#39\;s Grand Opening celebration on Saturday\, June 14.
LOCATION:Hair District 12700 Nicollet Ave. So. Burnsville\, MN 55337
UID:e.411.666757
SEQUENCE:3
DTSTAMP:20260425T110431Z
URL:http://dev.setupsite.burnsvillechamber.com/events/details/hair-district-ribbon-cutting-06-13-2014-666757
END:VEVENT

END:VCALENDAR
