BEGIN:VCALENDAR
VERSION:2.0
PRODID:-//ChamberMaster//Event Calendar 2.0//EN
METHOD:PUBLISH
X-PUBLISHED-TTL:P3D
REFRESH-INTERVAL:P3D
CALSCALE:GREGORIAN
BEGIN:VEVENT
DTSTART:20141024T231500Z
DTEND:20141025T003000Z
X-MICROSOFT-CDO-ALLDAYEVENT:FALSE
SUMMARY:Halloween Party at Parent's Choice 4 Kids Childcare Center
DESCRIPTION:We are very excited about our upcoming Halloween Party on Friday\, October 24th from 6:15-7:30 p.m.  Join us for spooky snacks\, games\, face painting\, crazy hair and tons of fun! Please invite your family\, friends and neighbors.  All attending are encouraged to wear a costume.  This event is free for all families!
X-ALT-DESC;FMTTYPE=text/html:We are very excited about our upcoming Halloween Party on Friday\, October 24th from 6:15-7:30 p.m.&nbsp\; Join us for spooky snacks\, games\, face painting\, crazy hair and tons of fun! Please invite your family\, friends and neighbors.&nbsp\; All attending are encouraged to wear a costume.&nbsp\; This event is free for all families!
LOCATION:Parents' Choice for Kids Preschool and Childcare Center
UID:e.411.666880
SEQUENCE:3
DTSTAMP:20260425T040700Z
URL:http://dev.setupsite.burnsvillechamber.com/events/details/halloween-party-at-parent-s-choice-4-kids-childcare-center-10-24-2014-666880
END:VEVENT

END:VCALENDAR
