BEGIN:VCALENDAR
VERSION:2.0
PRODID:-//ChamberMaster//Event Calendar 2.0//EN
METHOD:PUBLISH
X-PUBLISHED-TTL:P3D
REFRESH-INTERVAL:P3D
CALSCALE:GREGORIAN
BEGIN:VEVENT
DTSTART:20141216T140000Z
DTEND:20141216T153000Z
X-MICROSOFT-CDO-ALLDAYEVENT:FALSE
SUMMARY:How to Make Your Product a Celebrity in the News & Give it Legs to Keep on Run
DESCRIPTION:Become a media star and make your celebrity status last! Traditional advertising is struggling with sagging revenues. Are you having a harder time reaching clients through advertising? Traditional PR can be so confusing. What does it take to get reporters\, producers and editors to do a story about your product? Discover an underutilized channel of promotion: Publicity as Advertising. Learn how to harness the most powerful sales tool on the planet. Why is it untapped? Why is publicity the best way to advertise? What are some of the tools needed for a successful publicity campaign?\n\n\n\nDuring this seminar\, we will discuss:\n\nWhy publicity is often more effective than advertising\n\nWhy you should view reporters and producers as an inexpensive extension of your national sales force\n\nThe importance of customizing your approach\n\nHow to routinely extend the reach of each media placement\n\nThe best types of content to post to post to your blog\, Facebook and Twitter Do you need a Google+ account?\n\nWhat is content syndication and what?s the best way to start using it?\n\n\n\n7:30 am Registration & Networking\n\n8:00 - 9:30 am Presentation
X-ALT-DESC;FMTTYPE=text/html:Become a media star and make your celebrity status last! Traditional advertising is struggling with sagging revenues. Are you having a harder time reaching clients through advertising? Traditional PR can be so confusing. What does it take to get reporters\, producers and editors to do a story about your product? Discover an underutilized channel of promotion: Publicity as Advertising. Learn how to harness the most powerful sales tool on the planet. Why is it untapped? Why is publicity the best way to advertise? What are some of the tools needed for a successful publicity campaign?<br />\n<br />\nDuring this seminar\, we will discuss:<br />\nWhy publicity is often more effective than advertising<br />\nWhy you should view reporters and producers as an inexpensive extension of your national sales force<br />\nThe importance of customizing your approach<br />\nHow to routinely extend the reach of each media placement<br />\nThe best types of content to post to post to your blog\, Facebook and Twitter Do you need a Google+ account?<br />\nWhat is content syndication and what?s the best way to start using it?<br />\n<br />\n7:30 am Registration &amp\; Networking<br />\n8:00 - 9:30 am Presentation<br />\n<br />\n<br />\n&nbsp\;
LOCATION:Media Relations\, Inc. 350 W. Burnsville Parkway\, Suite 350 Burnsville\, MN 55337
UID:e.411.666872
SEQUENCE:3
DTSTAMP:20260425T023644Z
URL:http://dev.setupsite.burnsvillechamber.com/events/details/how-to-make-your-product-a-celebrity-in-the-news-give-it-legs-to-keep-on-run-12-16-2014-666872
END:VEVENT

END:VCALENDAR
