BEGIN:VCALENDAR
VERSION:2.0
PRODID:-//ChamberMaster//Event Calendar 2.0//EN
METHOD:PUBLISH
X-PUBLISHED-TTL:P3D
REFRESH-INTERVAL:P3D
CALSCALE:GREGORIAN
BEGIN:VEVENT
DTSTART;VALUE=DATE:20140531
DTEND;VALUE=DATE:20140608
TRANSP:TRANSPARENT
X-MICROSOFT-CDO-ALLDAYEVENT:TRUE
SUMMARY:I Love Burnsville Week
DESCRIPTION:Every June\, Burnsville hosts a week-long celebration of everything that makes our community a great place to live\, work\, and play! Hundreds of people turn out to participate in events\, meet their neighbors and have lots of food and fun. Every year brings new and exciting activities as well as perennial favorites!
X-ALT-DESC;FMTTYPE=text/html:Every June\, Burnsville hosts a week-long celebration of everything that makes our community a great place to live\, work\, and play! Hundreds of people turn out to participate in events\, meet their neighbors and have lots of food and fun. Every year brings new and exciting activities as well as perennial favorites!
LOCATION:All of Burnsville
UID:e.411.666793
SEQUENCE:3
DTSTAMP:20260425T110426Z
URL:http://dev.setupsite.burnsvillechamber.com/events/details/i-love-burnsville-week-05-31-2014-666793
END:VEVENT

END:VCALENDAR
