BEGIN:VCALENDAR
VERSION:2.0
PRODID:-//ChamberMaster//Event Calendar 2.0//EN
METHOD:PUBLISH
X-PUBLISHED-TTL:P3D
REFRESH-INTERVAL:P3D
CALSCALE:GREGORIAN
BEGIN:VEVENT
DTSTART:20140603T123000Z
DTEND:20140603T160000Z
X-MICROSOFT-CDO-ALLDAYEVENT:FALSE
SUMMARY:IMAX Theatre AM Coffee Break & Maleficent 3D Viewing
DESCRIPTION:The Great Clips IMAX Theatre and Burnsville Chamber of Commerce would like to invite you to a fun morning networking event: an AM Coffee break followed by a complimentary screening of "Maleficent: An IMAX 3D Experience"!
X-ALT-DESC;FMTTYPE=text/html:The Great Clips IMAX Theatre and Burnsville Chamber of Commerce would like to invite you to a fun morning networking event: an AM Coffee break followed by a complimentary screening of &quot\;Maleficent: An IMAX 3D Experience&quot\;!
LOCATION:Great Clips IMAX Theatre 12000 Zoo Blvd Apple Valley\, MN 55124
UID:e.411.666804
SEQUENCE:3
DTSTAMP:20260425T110426Z
URL:http://dev.setupsite.burnsvillechamber.com/events/details/imax-theatre-am-coffee-break-maleficent-3d-viewing-06-03-2014-666804
END:VEVENT

END:VCALENDAR
