BEGIN:VCALENDAR
VERSION:2.0
PRODID:-//ChamberMaster//Event Calendar 2.0//EN
METHOD:PUBLISH
X-PUBLISHED-TTL:P3D
REFRESH-INTERVAL:P3D
CALSCALE:GREGORIAN
BEGIN:VEVENT
DTSTART:20141014T200000Z
DTEND:20141014T230000Z
X-MICROSOFT-CDO-ALLDAYEVENT:FALSE
SUMMARY:InterACT4Impact\, Inc. Open House
DESCRIPTION:At InterACT4Impact\, Inc. we help individuals\, entrepreneurs\, small businesses and organizations grow and succeed by providing top of the line Talent insights Assessments\, Personal Development & Action Design Strategies\, Interaction Trainings\, and Facilitation Services.\n\n\n\nStop in to our open house to meet our growing team and see where the inspiration begins.  Check out the sticky wall of wonder! And put your name in for a FREE Explore Insights Package worth $297.
X-ALT-DESC;FMTTYPE=text/html:<div style="color: gray\;">At InterACT4Impact\, Inc. we help individuals\, entrepreneurs\, small businesses and organizations grow and succeed by providing top of the line Talent insights Assessments\, Personal Development &amp\; Action Design Strategies\, Interaction Trainings\, and Facilitation Services.<br />\n<br />\nStop in to our open house to meet our growing team and see where the inspiration begins.&nbsp\; Check out the sticky wall of wonder! And put your name in for a FREE Explore Insights Package worth $297.</div>\n
LOCATION:190 River Ridge Circle\, Suite 317 Burnsville\, MN
UID:e.411.666877
SEQUENCE:3
DTSTAMP:20260425T040119Z
URL:http://dev.setupsite.burnsvillechamber.com/events/details/interact4impact-inc-open-house-10-14-2014-666877
END:VEVENT

END:VCALENDAR
