BEGIN:VCALENDAR
VERSION:2.0
PRODID:-//ChamberMaster//Event Calendar 2.0//EN
METHOD:PUBLISH
X-PUBLISHED-TTL:P3D
REFRESH-INTERVAL:P3D
CALSCALE:GREGORIAN
BEGIN:VEVENT
DTSTART:20161208T230000Z
DTEND:20161208T230000Z
X-MICROSOFT-CDO-ALLDAYEVENT:FALSE
SUMMARY:JL Beers 1st Birthday CELLARbration
DESCRIPTION:1st Birthday CELLARbration\n\n21 CELLARED BREWS\n\n*Aged for a Minimum of 1 Year*\n\nBell's - Clown Shoes - Deschutes -  Fulton - Goose Island - Grand Teton - Insight - Lift Bridge - North Loop - Oskar Blues - Squatters- Widmer - Third Street\n\n\n\nLive Music - Birthday Cake - Prizes - Giveaways
X-ALT-DESC;FMTTYPE=text/html:1st Birthday CELLARbration<br />\n21 CELLARED BREWS<br />\n*Aged for a Minimum of 1 Year*<br />\nBell&#39\;s - Clown Shoes - Deschutes - &nbsp\;Fulton - Goose Island - Grand Teton - Insight - Lift Bridge - North Loop - Oskar Blues - Squatters- Widmer - Third Street<br />\n<br />\nLive Music - Birthday Cake - Prizes - Giveaways
LOCATION:JL Beers 1230 County Road 42 West Burnsville\, MN 55337
UID:e.411.667136
SEQUENCE:3
DTSTAMP:20260423T061543Z
URL:http://dev.setupsite.burnsvillechamber.com/events/details/jl-beers-1st-birthday-cellarbration-667136
END:VEVENT

END:VCALENDAR
