BEGIN:VCALENDAR
VERSION:2.0
PRODID:-//ChamberMaster//Event Calendar 2.0//EN
METHOD:PUBLISH
X-PUBLISHED-TTL:P3D
REFRESH-INTERVAL:P3D
CALSCALE:GREGORIAN
BEGIN:VEVENT
DTSTART:20140227T134500Z
DTEND:20140227T160000Z
X-MICROSOFT-CDO-ALLDAYEVENT:FALSE
SUMMARY:Let's talk Twitter!
DESCRIPTION:Twitter for Business: Most people are aware that Twitter is quickly gaining ground as a mainstream social discussion platform.  It allows the user to watch and listen to the activities of those that they are following. What some don't realize is that Twitter has become a key component in helping businesses manage their marketing content and expanding their reach.\n\n\n\nWays to use Twitter:\n\n* Monitor key words in relation to your company and industry\, so that you know what your customers and prospects are saying.\n\n* Drive followers to your sales funnel\n\n* Build a devoted following that will distribute your content \n\n* Market your brand\n\n* Watch industry trends\n\n\n\nWhat you will learn:\n\n* Understanding the Twitter lingo\n\nSet-up your Twitter profile for your business\n\n* Twitter basics\n\n* Building your followers & connecting with the right people\n\n* How to keep your content stream full
X-ALT-DESC;FMTTYPE=text/html:Twitter for Business: Most people are aware that Twitter is quickly gaining ground as a mainstream social discussion platform.&nbsp\; It allows the user to watch and listen to the activities of those that they are following. What some don&#39\;t realize is that Twitter has become a key component in helping businesses manage their marketing content and expanding their reach.<br />\n<br />\nWays to use Twitter:<br />\n* Monitor key words in relation to your company and industry\, so that you know what your customers and prospects are saying.<br />\n* Drive followers to your sales funnel<br />\n* Build a devoted following that will distribute your content&nbsp\;<br />\n* Market your brand<br />\n* Watch industry trends<br />\n<br />\nWhat you will learn:<br />\n* Understanding the Twitter lingo<br />\nSet-up your Twitter profile for your business<br />\n* Twitter basics<br />\n* Building your followers &amp\; connecting with the right people<br />\n* How to keep your content stream full<br type="_moz" />\n
LOCATION:Media Relations Inc. 350 W. Burnsville Parkway\, Suite 350 Burnsville\, MN 55337
UID:e.411.666744
SEQUENCE:3
DTSTAMP:20260425T175443Z
URL:http://dev.setupsite.burnsvillechamber.com/events/details/let-s-talk-twitter-02-27-2014-666744
END:VEVENT

END:VCALENDAR
