BEGIN:VCALENDAR
VERSION:2.0
PRODID:-//ChamberMaster//Event Calendar 2.0//EN
METHOD:PUBLISH
X-PUBLISHED-TTL:P3D
REFRESH-INTERVAL:P3D
CALSCALE:GREGORIAN
BEGIN:VEVENT
DTSTART:20150305T223000Z
DTEND:20150306T003000Z
X-MICROSOFT-CDO-ALLDAYEVENT:FALSE
SUMMARY:March Business After Hours @ Royal Cliff
DESCRIPTION:March's Business After Hours networking event is being hosted at and by Royal Cliff.  Join us for some post-holidays networking\, fun and conversation!\n\n\n\nFood is being provided by Roasted Pear!\n\n\n\nMembers only.
X-ALT-DESC;FMTTYPE=text/html:March&#39\;s Business After Hours networking event is being hosted at and by Royal Cliff.&nbsp\; Join us for some post-holidays networking\, fun and conversation!<br />\n<br />\nFood is being provided by Roasted Pear!<br />\n<br />\nMembers only.
LOCATION:Royal Cliff Banquet & Conference Center 2280 Cliff Rd Eagan\, MN 55122
UID:e.411.666923
SEQUENCE:3
DTSTAMP:20260424T191649Z
URL:http://dev.setupsite.burnsvillechamber.com/events/details/march-business-after-hours-royal-cliff-03-05-2015-666923
END:VEVENT

END:VCALENDAR
