BEGIN:VCALENDAR
VERSION:2.0
PRODID:-//ChamberMaster//Event Calendar 2.0//EN
METHOD:PUBLISH
X-PUBLISHED-TTL:P3D
REFRESH-INTERVAL:P3D
CALSCALE:GREGORIAN
BEGIN:VEVENT
DTSTART:20140327T230000Z
DTEND:20140328T020000Z
X-MICROSOFT-CDO-ALLDAYEVENT:FALSE
SUMMARY:Martinis & Manicures
DESCRIPTION:Join Aafusion Spa Salon at the Best Western Premier Nicollet Inn for a night of Martinis & Manicures! Please RSVP to the event as space is limited. RSVP: Aafusion: 952-898-1234 or RSVP: Best Western Premier: 952-646-3605 Includes: Mini Mani: Polish & Buff 1 Drink Ticket: Good for a Specialty Martini Light Appetizers $26 per person 6-9pm Pre-registration Starts at 5:30pm *This is a cash only event*
X-ALT-DESC;FMTTYPE=text/html:Join Aafusion Spa Salon at the Best Western Premier Nicollet Inn for a night of Martinis &amp\; Manicures! Please RSVP to the event as space is limited. RSVP: Aafusion: 952-898-1234 or RSVP: Best Western Premier: 952-646-3605 Includes: Mini Mani: Polish &amp\; Buff 1 Drink Ticket: Good for a Specialty Martini Light Appetizers $26 per person 6-9pm Pre-registration Starts at 5:30pm *This is a cash only event*
LOCATION:14201 Nicollet Avenue South Burnsville\, MN 55337
UID:e.411.666762
SEQUENCE:3
DTSTAMP:20260425T163342Z
URL:http://dev.setupsite.burnsvillechamber.com/events/details/martinis-manicures-03-27-2014-666762
END:VEVENT

END:VCALENDAR
