BEGIN:VCALENDAR
VERSION:2.0
PRODID:-//ChamberMaster//Event Calendar 2.0//EN
METHOD:PUBLISH
X-PUBLISHED-TTL:P3D
REFRESH-INTERVAL:P3D
CALSCALE:GREGORIAN
BEGIN:VEVENT
DTSTART:20141015T160000Z
DTEND:20141015T180000Z
X-MICROSOFT-CDO-ALLDAYEVENT:FALSE
SUMMARY:Maximize Employee Performance Through Financial Wellness Lunch & Learn
DESCRIPTION:SharePoint Credit Union and Buca di Beppo are teaming up to offer you a great Lunch & Learn opportunity - "Maximize Employee Performance Through Financial Wellness"!  There will be drawings for gift cards\, as well!\n\n\n\nDid you know?\n\nFinancially stressed employees are costing American Businesses a total of around $300 billion annually by increased absenteeism\, health issues from stress\, distractions while at work and overall employee performance.  Financially sound employees are more focused and productive\, allowing your business to thrive.  Enjoy a great lunch while learning about easy ways to improve employee productivity by offering financial resources at no cost to companies.
X-ALT-DESC;FMTTYPE=text/html:SharePoint Credit Union and Buca di Beppo are teaming up to offer you a great Lunch &amp\; Learn opportunity - &quot\;Maximize Employee Performance Through Financial Wellness&quot\;!&nbsp\; There will be drawings for gift cards\, as well!<br />\n<br />\n<u>Did you know?</u><br />\nFinancially stressed employees are costing American Businesses a total of around $300 billion annually by increased absenteeism\, health issues from stress\, distractions while at work and overall employee performance.&nbsp\; Financially sound employees are more focused and productive\, allowing your business to thrive.&nbsp\; Enjoy a great lunch while learning about easy ways to improve employee productivity by offering financial resources at no cost to companies.
LOCATION:Buca di Beppo 14300 Burnhaven Drive Burnsville\, MN 55306
UID:e.411.666864
SEQUENCE:3
DTSTAMP:20260425T035839Z
URL:http://dev.setupsite.burnsvillechamber.com/events/details/maximize-employee-performance-through-financial-wellness-lunch-learn-10-15-2014-666864
END:VEVENT

END:VCALENDAR
