BEGIN:VCALENDAR
VERSION:2.0
PRODID:-//ChamberMaster//Event Calendar 2.0//EN
METHOD:PUBLISH
X-PUBLISHED-TTL:P3D
REFRESH-INTERVAL:P3D
CALSCALE:GREGORIAN
BEGIN:VEVENT
DTSTART:20150521T193000Z
DTEND:20150521T203000Z
X-MICROSOFT-CDO-ALLDAYEVENT:FALSE
SUMMARY:May 2015 Chamber 101 Class
DESCRIPTION:Whether you are a newer member of the chamber\, or you have been a member for years\, we would like to invite you to attend one of our upcoming Chamber 101 meeting to learn more about the many benefits of being a chamber member.  From this gathering\, you will walk away with a better understanding of how to receive the best value from your membership by learning:\n\n1. More details about the Chamber and its Mission\n\n2. How to access your account online and gain more exposure\n\n3. Opportunities to market your business\n\n4. How to sponsor events to keep your business visible\n\n5. How you and your employees can engage\n\n6. And more...\n\n\n\nMust RSVP by Tuesday\, May 19th to the Burnsville Chamber - 952.435.6000
X-ALT-DESC;FMTTYPE=text/html:Whether you are a newer member of the chamber\, or you have been a member for years\, we would like to invite you to attend one of our upcoming Chamber 101 meeting to learn more about the many benefits of being a chamber member.&nbsp\; From this gathering\, you will walk away with a better understanding of how to receive the best value from your membership by learning:<br />\n1. More details about the Chamber and its Mission<br />\n2. How to access your account online and gain more exposure<br />\n3. Opportunities to market your business<br />\n4. How to sponsor events to keep your business visible<br />\n5. How you and your employees can engage<br />\n6. And more...<br />\n<br />\nMust RSVP by Tuesday\, May 19th to the Burnsville Chamber - 952.435.6000
LOCATION:Burnsville Chamber Office Building G Level Conference Room 350 West Burnsville Parkway Burnsville\, MN
UID:e.411.666914
SEQUENCE:3
DTSTAMP:20260424T155655Z
URL:http://dev.setupsite.burnsvillechamber.com/events/details/may-2015-chamber-101-class-05-21-2015-666914
END:VEVENT

END:VCALENDAR
