BEGIN:VCALENDAR
VERSION:2.0
PRODID:-//ChamberMaster//Event Calendar 2.0//EN
METHOD:PUBLISH
X-PUBLISHED-TTL:P3D
REFRESH-INTERVAL:P3D
CALSCALE:GREGORIAN
BEGIN:VEVENT
DTSTART:20150520T213000Z
DTEND:20150520T233000Z
X-MICROSOFT-CDO-ALLDAYEVENT:FALSE
SUMMARY:May Burnsville Chamber Women Empowered
DESCRIPTION:Attention Members!\n\nThe Women Empowered event for May has been canceled and will be rescheduled at a later date TBD.\n\n\n\nWe apologize for any inconvenience and will be posting more information as soon as it becomes available.\n\n\n\nBurnsville Chamber staff.
X-ALT-DESC;FMTTYPE=text/html:<span style="font-size: 18px\;"><strong>Attention Members!</strong></span><br />\n<span style="font-size: 14px\;">The Women Empowered event for May has been canceled and will be rescheduled at a later date TBD.<br />\n<br />\nWe apologize for any inconvenience and will be posting more information as soon as it becomes available.<br />\n<br />\nBurnsville Chamber staff.</span>
LOCATION:
UID:e.411.666943
SEQUENCE:3
DTSTAMP:20260424T155854Z
URL:http://dev.setupsite.burnsvillechamber.com/events/details/may-burnsville-chamber-women-empowered-05-20-2015-666943
END:VEVENT

END:VCALENDAR
