BEGIN:VCALENDAR
VERSION:2.0
PRODID:-//ChamberMaster//Event Calendar 2.0//EN
METHOD:PUBLISH
X-PUBLISHED-TTL:P3D
REFRESH-INTERVAL:P3D
CALSCALE:GREGORIAN
BEGIN:VEVENT
DTSTART:20141203T180000Z
DTEND:20141203T193000Z
X-MICROSOFT-CDO-ALLDAYEVENT:FALSE
SUMMARY:Meet the SMYPros! An Intro to our Young Professionals Group
DESCRIPTION:Wanting to get more involved with a great Young Professionals Group? In your 20's or 30's and interested in networking\, educational and community service opportunities? Then check us out at this event with the "SMYPros" (South Metro Young Professionals).\n\n\n\nLunch is being sponsored an catered by Buca di Beppo of Burnsville.  Thank you\, Buca!
X-ALT-DESC;FMTTYPE=text/html:Wanting to get more involved with a great Young Professionals Group? In your 20&#39\;s or 30&#39\;s and interested in networking\, educational and community service opportunities? Then check us out at this event with the &quot\;SMYPros&quot\; (South Metro Young Professionals).<br />\n<br />\nLunch is being sponsored an catered by Buca di Beppo of Burnsville.&nbsp\; Thank you\, Buca!
LOCATION:YMCA Burnsville Community Room 13850 Portland Avenue South Burnsville\, MN 55337
UID:e.411.666891
SEQUENCE:3
DTSTAMP:20260425T004517Z
URL:http://dev.setupsite.burnsvillechamber.com/events/details/meet-the-smypros-an-intro-to-our-young-professionals-group-12-03-2014-666891
END:VEVENT

END:VCALENDAR
