BEGIN:VCALENDAR
VERSION:2.0
PRODID:-//ChamberMaster//Event Calendar 2.0//EN
METHOD:PUBLISH
X-PUBLISHED-TTL:P3D
REFRESH-INTERVAL:P3D
CALSCALE:GREGORIAN
BEGIN:VEVENT
DTSTART:20140303T173000Z
DTEND:20140303T190000Z
X-MICROSOFT-CDO-ALLDAYEVENT:FALSE
SUMMARY:Meineke of Burnsville Ribbon Cutting Event
DESCRIPTION:Meineke of Burnsville will be having a week long Grand Opening celebration! The Burnsville Chamber of Commerce is helping to kick it off with the ribbon cutting on Monday\, March 3rd.  The specials for the week are:\n\nMonday\, March 3rd - Free Oil Changes for Veterans\n\nTuesday\, March 4th - Lady's Day\n\nWednesday\, March 5th - Senior Citizen Day\n\nThursday\, March 6th - Pot Hole Thursday\n\nFriday\, March 7th - Flush It Friday\n\n\n\nMore information can be found online or by calling Meineke.
X-ALT-DESC;FMTTYPE=text/html:Meineke of Burnsville will be having a week long Grand Opening celebration! The Burnsville Chamber of Commerce is helping to kick it off with the ribbon cutting on Monday\, March 3rd.&nbsp\; The specials for the week are:<br />\nMonday\, March 3rd - Free Oil Changes for Veterans<br />\nTuesday\, March 4th - Lady&#39\;s Day<br />\nWednesday\, March 5th - Senior Citizen Day<br />\nThursday\, March 6th - Pot Hole Thursday<br />\nFriday\, March 7th - Flush It Friday<br />\n<br />\nMore information can be found online or by calling Meineke.
LOCATION:Meineke of Burnsville 600 Southcross Drive Burnsville\, MN 952.807.7190
UID:e.411.666753
SEQUENCE:3
DTSTAMP:20260425T163703Z
URL:http://dev.setupsite.burnsvillechamber.com/events/details/meineke-of-burnsville-ribbon-cutting-event-03-03-2014-666753
END:VEVENT

END:VCALENDAR
