BEGIN:VCALENDAR
VERSION:2.0
PRODID:-//ChamberMaster//Event Calendar 2.0//EN
METHOD:PUBLISH
X-PUBLISHED-TTL:P3D
REFRESH-INTERVAL:P3D
CALSCALE:GREGORIAN
BEGIN:VEVENT
DTSTART:20150409T223000Z
DTEND:20150410T020000Z
X-MICROSOFT-CDO-ALLDAYEVENT:FALSE
SUMMARY:Minnesota Women Business Owners Hall of Fame
DESCRIPTION:Eight legendary and inspirational women leaders will soon be added to a very elite group\, when they are inducted into the Minnesota Women Business Owners Hall of Fame.\n\n\n\nThis year's honorees will include Nordic Ware's Dorothy Dalquist\, who was almost single-handedly responsible for putting Bundt pans in kitchens across America\, and a posthumous honor to pioneer restaurateur Leeann Chin.\n\n\n\nThe women will be inducted during a gala event to be held April 9 at Cargill World Headquarters. Collectively\, at their peak\, these women's businesses have generated nearly $350 million per year in revenue for the state of Minnesota\, said organizer Jill Johnson\, who has invested hundreds of hours researching candidates for consideration by the Selection Committee.\n\n\n\nNearly all of these women have earned multiple high honors throughout their careers. These are pioneers and trailblazers whose business and philanthropic accomplishments are worthy of historic acknowledgment. They represent nearly 100 years of Minnesota history.\n\n\n\nThe event's emcee will be WCCO's morning anchor Jamie Yuccas. This year's keynote speaker is Jenny Verner\, president of Cargill's Specialty Seeds and Oils Business Unit. This year's honorees are: Maureen Steinwall\, Steinwall\, Inc.\, Coon Rapids. Dorothy Staugaard Dalquist\, Nordic Ware\, St. Louis Park. Pamela Smith Garrett\, Comprehensive Rehabilitation Center (CRC). Kathleen Zurek\, Diversified Adjustment Service\, Inc.\, Coon Rapids. Esperanza Guerrero-Anderson\, Guerrero-Anderson\, Inc.\, Golden Valley. Angie Bastian\, Angie's Artisan Treats\, LLC\, Mankato. Marie O'Brien Slawik\, HarMar\, Incorporated (posthumous). Leeann Chin\, Leeann Chin Chinese Cuisine\, (posthumous). Tickets to this year's Minnesota Women Business Owners Hall of Fame celebration are $95 each\, and may be purchased at www.nawbo-mn.org.
X-ALT-DESC;FMTTYPE=text/html:Eight legendary and inspirational women leaders will soon be added to a very elite group\, when they are inducted into the Minnesota Women Business Owners Hall of Fame.<br />\n<br />\nThis year&#39\;s honorees will include Nordic Ware&#39\;s Dorothy Dalquist\, who was almost single-handedly responsible for putting Bundt pans in kitchens across America\, and a posthumous honor to pioneer restaurateur Leeann Chin.<br />\n<br />\nThe women will be inducted during a gala event to be held April 9 at Cargill World Headquarters. Collectively\, at their peak\, these women&#39\;s businesses have generated nearly $350 million per year in revenue for the state of Minnesota\, said organizer Jill Johnson\, who has invested hundreds of hours researching candidates for consideration by the Selection Committee.<br />\n<br />\nNearly all of these women have earned multiple high honors throughout their careers. These are pioneers and trailblazers whose business and philanthropic accomplishments are worthy of historic acknowledgment. They represent nearly 100 years of Minnesota history.<br />\n<br />\nThe event&#39\;s emcee will be WCCO&#39\;s morning anchor Jamie Yuccas. This year&#39\;s keynote speaker is Jenny Verner\, president of Cargill&#39\;s Specialty Seeds and Oils Business Unit. This year&#39\;s honorees are: Maureen Steinwall\, Steinwall\, Inc.\, Coon Rapids. Dorothy Staugaard Dalquist\, Nordic Ware\, St. Louis Park. Pamela Smith Garrett\, Comprehensive Rehabilitation Center (CRC). Kathleen Zurek\, Diversified Adjustment Service\, Inc.\, Coon Rapids. Esperanza Guerrero-Anderson\, Guerrero-Anderson\, Inc.\, Golden Valley. Angie Bastian\, Angie&#39\;s Artisan Treats\, LLC\, Mankato. Marie O&#39\;Brien Slawik\, HarMar\, Incorporated (posthumous). Leeann Chin\, Leeann Chin Chinese Cuisine\, (posthumous). Tickets to this year&#39\;s Minnesota Women Business Owners Hall of Fame celebration are $95 each\, and may be purchased at <a href="http://www.nawbo-mn.org">www.nawbo-mn.org</a>.
LOCATION:Cargill World Headquarters Wayzata\, MN
UID:e.411.666922
SEQUENCE:3
DTSTAMP:20260424T191924Z
URL:http://dev.setupsite.burnsvillechamber.com/events/details/minnesota-women-business-owners-hall-of-fame-04-09-2015-666922
END:VEVENT

END:VCALENDAR
