BEGIN:VCALENDAR
VERSION:2.0
PRODID:-//ChamberMaster//Event Calendar 2.0//EN
METHOD:PUBLISH
X-PUBLISHED-TTL:P3D
REFRESH-INTERVAL:P3D
CALSCALE:GREGORIAN
BEGIN:VEVENT
DTSTART:20140318T170000Z
DTEND:20140318T180000Z
X-MICROSOFT-CDO-ALLDAYEVENT:FALSE
SUMMARY:Networking @ Noon - Vineyard Community Services
DESCRIPTION:Vineyard Community Services wants to host you for a lunch and some great networking! Attend with a co-worker and learn more about what it is that Vineyards Community Services does\, and how you can help!
X-ALT-DESC;FMTTYPE=text/html:Vineyard Community Services wants to host you for a lunch and some great networking! Attend with a co-worker and learn more about what it is that Vineyards Community Services does\, and how you can help!
LOCATION:Vineyard Community Services (Inside South Metro Vineyard Church) 13798 Parkwood Drive Burnsville\, MN 952.595.5980
UID:e.411.666755
SEQUENCE:3
DTSTAMP:20260425T162438Z
URL:http://dev.setupsite.burnsvillechamber.com/events/details/networking-noon-vineyard-community-services-03-18-2014-666755
END:VEVENT

END:VCALENDAR
