BEGIN:VCALENDAR
VERSION:2.0
PRODID:-//ChamberMaster//Event Calendar 2.0//EN
METHOD:PUBLISH
X-PUBLISHED-TTL:P3D
REFRESH-INTERVAL:P3D
CALSCALE:GREGORIAN
BEGIN:VEVENT
DTSTART:20141106T223000Z
DTEND:20141107T003000Z
X-MICROSOFT-CDO-ALLDAYEVENT:FALSE
SUMMARY:November 6th\, 2014 - Business After Hours @ Morgan's on Nicollet
DESCRIPTION:Come out to Morgan's on Nicollet\, located in the fantastic Best Western Premier Nicollet Inn\, for a networking happy hour with the Burnsville Chamber!  They have a delicious new Happy Hour\, Dinner & Lunch Menu showcasing their new "Farm to Table" concept.
X-ALT-DESC;FMTTYPE=text/html:Come out to Morgan&#39\;s on Nicollet\, located in the fantastic Best Western Premier Nicollet Inn\, for a networking happy hour with the Burnsville Chamber!&nbsp\; They have a delicious new Happy Hour\, Dinner &amp\; Lunch Menu showcasing their new &quot\;Farm to Table&quot\; concept.
LOCATION:Morgan's on Nicollet (inside Best Western Premier Nicollet Inn) 14201 Nicollet Avenue South Burnsville
UID:e.411.666838
SEQUENCE:3
DTSTAMP:20260425T020858Z
URL:http://dev.setupsite.burnsvillechamber.com/events/details/november-6th-2014-business-after-hours-morgan-s-on-nicollet-11-06-2014-666838
END:VEVENT

END:VCALENDAR
