BEGIN:VCALENDAR
VERSION:2.0
PRODID:-//ChamberMaster//Event Calendar 2.0//EN
METHOD:PUBLISH
X-PUBLISHED-TTL:P3D
REFRESH-INTERVAL:P3D
CALSCALE:GREGORIAN
BEGIN:VEVENT
DTSTART:20161115T173000Z
DTEND:20161115T190000Z
X-MICROSOFT-CDO-ALLDAYEVENT:FALSE
SUMMARY:2016 November Chamber Luncheon
DESCRIPTION:November Chamber Luncheon\n\n\n\nSpeaker:\n\n\n\nDavid Stark\n\n\n	President of BusinessKeys International\n	National Speaker\n	Author of books including: Working with purpose\, Lifekeys & Reaching Millennials\n\n\n\nTopic:\n\nUnravel tough relationships in the workplace\n\n\n	Getting work relationships on track so the work can get done\n	Strategies for working things out with employees\, co-workers\, bosses and clients\n\n\n\nWould you like to share your story confidentially with David before the meeting? Email him at dstark@businesskeys.com so he can address specific issues in his talk.
X-ALT-DESC;FMTTYPE=text/html:<span style="font-size:18px\;"><strong>November Chamber Luncheon</strong></span><br />\n<br />\n<span style="font-size:14px\;"><strong>Speaker:</strong></span><br />\n<br />\n<strong>David Stark</strong>\n\n<ul>\n	<li>President of BusinessKeys International</li>\n	<li>National Speaker</li>\n	<li>Author of books including: Working with purpose\, Lifekeys&nbsp\;&amp\; Reaching Millennials</li>\n</ul>\n<br />\n<strong><span style="font-size:14px\;">Topic:</span></strong><br />\n<strong>Unravel tough relationships in the workplace</strong>\n\n<ul>\n	<li>Getting work relationships on track so the work can get done</li>\n	<li>Strategies for working things out with employees\, co-workers\, bosses and clients</li>\n</ul>\n<br />\n<em>Would you like to share your story confidentially with David before the meeting? Email him at <a href="mailto:dstark@businesskeys.com?subject=Burnsville%20Chamber%20Story">dstark@businesskeys.com</a>&nbsp\;so he can address specific issues in his talk.</em>
LOCATION:Best Western Premier Nicollet Inn
UID:e.411.667117
SEQUENCE:3
DTSTAMP:20260423T075046Z
URL:http://dev.setupsite.burnsvillechamber.com/events/details/november-chamber-luncheon-667117
END:VEVENT

END:VCALENDAR
