BEGIN:VCALENDAR
VERSION:2.0
PRODID:-//ChamberMaster//Event Calendar 2.0//EN
METHOD:PUBLISH
X-PUBLISHED-TTL:P3D
REFRESH-INTERVAL:P3D
CALSCALE:GREGORIAN
BEGIN:VEVENT
DTSTART:20141008T130000Z
DTEND:20141008T140000Z
X-MICROSOFT-CDO-ALLDAYEVENT:FALSE
SUMMARY:October 8th\, 2014 - AM Coffee Break @ Pawn America
DESCRIPTION:Start your Wednesday working day with some great conversation\, networking\, and coffee at the local Pawn America Store!
X-ALT-DESC;FMTTYPE=text/html:Start your Wednesday working day with some great conversation\, networking\, and coffee at the local Pawn America Store!
LOCATION:Pawn America 13959 Grand Avenue South Burnsville\, MN
UID:e.411.666836
SEQUENCE:3
DTSTAMP:20260425T040220Z
URL:http://dev.setupsite.burnsvillechamber.com/events/details/october-8th-2014-am-coffee-break-pawn-america-10-08-2014-666836
END:VEVENT

END:VCALENDAR
