BEGIN:VCALENDAR
VERSION:2.0
PRODID:-//ChamberMaster//Event Calendar 2.0//EN
METHOD:PUBLISH
X-PUBLISHED-TTL:P3D
REFRESH-INTERVAL:P3D
CALSCALE:GREGORIAN
BEGIN:VEVENT
DTSTART:20141002T213000Z
DTEND:20141002T233000Z
X-MICROSOFT-CDO-ALLDAYEVENT:FALSE
SUMMARY:October Business After Hours @ Crystal Lake Golf Club
DESCRIPTION:Join us for our monthly Business After Hours! This month Crystal Lake Golf Club is hosting in their wonderful clubhouse.  Come enjoy some appetizers and drinks with your fellow chamber members!
X-ALT-DESC;FMTTYPE=text/html:Join us for our monthly Business After Hours! This month Crystal Lake Golf Club is hosting in their wonderful clubhouse.&nbsp\; Come enjoy some appetizers and drinks with your fellow chamber members!
LOCATION:Crystal Lake Golf Club 16725 Innsbrook Drive Lakeville\, MN 55044
UID:e.411.666861
SEQUENCE:3
DTSTAMP:20260425T040410Z
URL:http://dev.setupsite.burnsvillechamber.com/events/details/october-business-after-hours-crystal-lake-golf-club-10-02-2014-666861
END:VEVENT

END:VCALENDAR
