BEGIN:VCALENDAR
VERSION:2.0
PRODID:-//ChamberMaster//Event Calendar 2.0//EN
METHOD:PUBLISH
X-PUBLISHED-TTL:P3D
REFRESH-INTERVAL:P3D
CALSCALE:GREGORIAN
BEGIN:VEVENT
DTSTART:20131122T180000Z
DTEND:20131122T190000Z
X-MICROSOFT-CDO-ALLDAYEVENT:FALSE
SUMMARY:Paragon Theaters Ribbon Cutting Event - Hunger Games Style!
DESCRIPTION:Paragon Entertainment Group is enhancing its Burnsville Paragon Odyssey 15 theater with The IMAX Experience . The cinema is unveiling a brand new IMAX  theater with the premiere of Hunger Games: Catching Fire: The IMAX Experience\n\n	on Thursday\, Nov. 21\, at 8 p.m.  \n\n	 \n\n	The celebration will continue on Friday\, Nov. 22\, when the Burnsville Chamber of Commerce hosts an official ribbon-cutting ceremony at 12 p.m. Click here for more information.
X-ALT-DESC;FMTTYPE=text/html:<p>\n	<span style="font-size: 11pt\;"><span style="font-family: arial\,sans-serif\;"><span style="color: rgb(133\, 116\, 88)\;">Paragon Entertainment Group is enhancing its Burnsville Paragon Odyssey 15 theater with The IMAX Experience&reg\;. The cinema is unveiling a brand new IMAX&reg\; theater with the premiere of Hunger Games: Catching Fire: The IMAX Experience</span></span></span><br />\n	<span style="font-size: 11pt\;"><span style="font-family: arial\,sans-serif\;"><span style="color: rgb(133\, 116\, 88)\;">on Thursday\, Nov. 21\, at 8 p.m. &nbsp\;</span></span></span><br />\n	&nbsp\;<br />\n	<span style="font-size: 11pt\;"><span style="font-family: arial\,sans-serif\;"><span style="color: rgb(133\, 116\, 88)\;">The celebration will continue on Friday\, Nov. 22\, when the Burnsville Chamber of Commerce hosts an official ribbon-cutting ceremony at 12 p.m. Click <a href="http://cloud.chambermaster.com/userfiles/UserFiles/chambers/411/File/Ribbon_Cutting/Paragon-IMAX.pdf">here</a> for more information.</span></span></span><br />\n	&nbsp\;</p>\n
LOCATION:Paragon Odyssey 15 Theater 14401 Burnhaven Drive Burnsville\, MN
UID:e.411.666725
SEQUENCE:3
DTSTAMP:20260426T010052Z
URL:http://dev.setupsite.burnsvillechamber.com/events/details/paragon-theaters-ribbon-cutting-event-hunger-games-style-11-22-2013-666725
END:VEVENT

END:VCALENDAR
