BEGIN:VCALENDAR
VERSION:2.0
PRODID:-//ChamberMaster//Event Calendar 2.0//EN
METHOD:PUBLISH
X-PUBLISHED-TTL:P3D
REFRESH-INTERVAL:P3D
CALSCALE:GREGORIAN
BEGIN:VEVENT
DTSTART:20140222T203000Z
DTEND:20140222T233000Z
X-MICROSOFT-CDO-ALLDAYEVENT:FALSE
SUMMARY:Polar Bear Plunge
DESCRIPTION:Support the Special Olympics\, MN by plunging into the cold! The Polar Bear Plunge helps raise money for athletes participating in the Special Olympics! Check out plungemn.org to find a location near you and to make a team! It's the "chillest" event this winter! Make a difference and plunge!
X-ALT-DESC;FMTTYPE=text/html:Support the Special Olympics\, MN by plunging into the cold! The Polar Bear Plunge helps raise money for athletes participating in the Special Olympics! Check out plungemn.org to find a location near you and to make a team! It&#39\;s the &quot\;chillest&quot\; event this winter! Make a difference and plunge!
LOCATION:Crystal Beach\, 1100 Crystal Lake Rd E\, Burnsville\, MN 55306
UID:e.411.666718
SEQUENCE:3
DTSTAMP:20260425T175452Z
URL:http://dev.setupsite.burnsvillechamber.com/events/details/polar-bear-plunge-02-22-2014-666718
END:VEVENT

END:VCALENDAR
