BEGIN:VCALENDAR
VERSION:2.0
PRODID:-//ChamberMaster//Event Calendar 2.0//EN
METHOD:PUBLISH
X-PUBLISHED-TTL:P3D
REFRESH-INTERVAL:P3D
CALSCALE:GREGORIAN
BEGIN:VEVENT
DTSTART:20131023T130000Z
DTEND:20131023T170000Z
X-MICROSOFT-CDO-ALLDAYEVENT:FALSE
SUMMARY:Real World Ready Career Day
DESCRIPTION:World Ready Career Day \n\n	A celebration of Minnesota Manufacturing Week and STHEM based Businesses\n\n	Keynote Speaker - Bill Blazar\, Senior VP Public Affairs and Business Development MN Chamber\n\n	"How is Minnesota's Economy Changing?"\n\n	Keynote Speaker - Stacy Klein Dahlin Workforce Specialist\n\n	"Career Optionsof the Future"\n\n	(see registration form)\n\n	http://cloud.chambermaster.com/userfiles/UserFiles/chambers/411/File/RWRCareerDay-Registrationform.pdf\n\n	\n\n	Real \n\n	"Each Student Real-World Ready"\n\n	To RSVP or to register your business for the Career Fair\n\n	Contact Maranda at maranda@burnsvillechamber.com or\n\n	call 952-898-5642
X-ALT-DESC;FMTTYPE=text/html:<p style="text-align: center\;">\n	<span style="font-size: 12px\;"><b><font color="#221e1f"><font color="#221e1f">World Ready Career Day </font></font></b></span></p>\n<p align="CENTER">\n	<span style="font-size: 12px\;"><b><i><font color="#221e1f" face="Minion Pro\,Minion Pro"><font color="#221e1f" face="Minion Pro\,Minion Pro"><font color="#221e1f" face="Minion Pro\,Minion Pro">A celebration of Minnesota Manufacturing Week and STHEM based Businesses</font></font></font></i></b></span></p>\n<p align="JUSTIFY">\n	<span style="font-size: 12px\;"><font color="#221e1f" face="Minion Pro\,Minion Pro"><font color="#221e1f" face="Minion Pro\,Minion Pro"><font color="#221e1f" face="Minion Pro\,Minion Pro">Keynote Speaker - </font></font></font><b><font color="#221e1f"><font color="#221e1f">Bill Blazar\, </font></font></b><b><font color="#221e1f"><font color="#221e1f">Senior VP Public Affairs and </font></font></b><b><font color="#221e1f"><font color="#221e1f">Business Development </font></font></b><b><font color="#221e1f"><font color="#221e1f">MN Chamber</font></font></b></span></p>\n<p>\n	<span style="font-size: 12px\;"><b><i><font color="#221e1f" face="Minion Pro\,Minion Pro"><font color="#221e1f" face="Minion Pro\,Minion Pro"><font color="#221e1f" face="Minion Pro\,Minion Pro">&quot\;How is Minnesota&rsquo\;s Economy Changing?&quot\;</font></font></font></i></b></span></p>\n<p align="JUSTIFY">\n	<span style="font-size: 12px\;"><font color="#221e1f" face="Minion Pro\,Minion Pro"><font color="#221e1f" face="Minion Pro\,Minion Pro"><font color="#221e1f" face="Minion Pro\,Minion Pro">Keynote Speaker - </font></font></font><b><font color="#221e1f"><font color="#221e1f">Stacy Klein Dahlin </font></font></b><b><font color="#221e1f"><font color="#221e1f">Workforce Specialist</font></font></b></span></p>\n<p align="JUSTIFY">\n	<span style="font-size: 12px\;"><b><i><font color="#221e1f" face="Minion Pro\,Minion Pro"><font color="#221e1f" face="Minion Pro\,Minion Pro"><font color="#221e1f" face="Minion Pro\,Minion Pro">&quot\;Career </font></font></font></i></b><b><i><font color="#221e1f" face="Minion Pro\,Minion Pro"><font color="#221e1f" face="Minion Pro\,Minion Pro"><font color="#221e1f" face="Minion Pro\,Minion Pro">Options</font></font></font></i></b><b><i><font color="#221e1f" face="Minion Pro\,Minion Pro"><font color="#221e1f" face="Minion Pro\,Minion Pro"><font color="#221e1f" face="Minion Pro\,Minion Pro">of</font></font></font></i></b><b><i><font color="#221e1f" face="Minion Pro\,Minion Pro"><font color="#221e1f" face="Minion Pro\,Minion Pro"><font color="#221e1f" face="Minion Pro\,Minion Pro"> the Future&quot\;</font></font></font></i></b></span></p>\n<p align="CENTER">\n	<span style="font-size: 12px\;"><b><font color="#221e1f" face="Palatino\,Palatino"><font color="#221e1f" face="Palatino\,Palatino"><font color="#221e1f" face="Palatino\,Palatino">(see registration form)</font></font></font></b></span></p>\n<p align="CENTER">\n	<span style="font-size: 12px\;"><b><font color="#221e1f" face="Palatino\,Palatino"><font color="#221e1f" face="Palatino\,Palatino"><font color="#221e1f" face="Palatino\,Palatino"><span style="font-size: 12px\;"><b><font color="#221e1f"><font color="#221e1f"><a href="http://cloud.chambermaster.com/userfiles/UserFiles/chambers/411/File/RWRCareerDay-Registrationform.pdf">http://cloud.chambermaster.com/userfiles/UserFiles/chambers/411/File/RWRCareerDay-Registrationform.pdf</a><br />\n	<br />\n	Real </font></font></b></span></font></font></font></b></span></p>\n<p align="CENTER">\n	<span style="font-size: 12px\;"><b><i><font color="#221e1f" face="Minion Pro\,Minion Pro"><font color="#221e1f" face="Minion Pro\,Minion Pro"><font color="#221e1f" face="Minion Pro\,Minion Pro">&quot\;Each Student Real-World Ready&quot\;</font></font></font></i></b></span></p>\n<p style="text-align: center\;">\n	<span style="font-size: 12px\;"><b><font color="#221e1f"><font color="#221e1f">To RSVP or to register your business for the Career Fair</font></font></b></span></p>\n<p style="text-align: center\;">\n	<span style="font-size: 12px\;"><b><font color="#221e1f"><font color="#221e1f">Contact Maranda at maranda@burnsvillechamber.com or</font></font></b></span></p>\n<p style="text-align: center\;">\n	<span style="font-size: 12px\;"><b><font color="#221e1f"><font color="#221e1f">call 952-898-5642</font></font></b></span></p>\n<p style="text-align: center\;">\n	<span style="font-size: 12px\;"><b>&nbsp\;</b></span></p>\n<p style="text-align: center\;">\n	<span style="font-size: 12px\;"><b><i>&nbsp\;</i></b></span></p>\n<p style="text-align: center\;">\n	<span style="font-size: 12px\;"><b><i><font color="#221e1f" face="Minion Pro\,Minion Pro">&nbsp\;</font></i></b></span></p>\n<p style="text-align: center\;">\n	<span style="font-size: 12px\;"><b><i><font color="#221e1f" face="Minion Pro\,Minion Pro"><font color="#221e1f" face="Minion Pro\,Minion Pro">&nbsp\;</font></font></i></b></span></p>\n<p style="text-align: center\;">\n	<span style="font-size: 12px\;"><b><i><font color="#221e1f" face="Minion Pro\,Minion Pro"><font color="#221e1f" face="Minion Pro\,Minion Pro"><font color="#221e1f" face="Minion Pro\,Minion Pro">&nbsp\;</font></font></font></i></b></span></p>\n<p>\n	&nbsp\;</p>\n<p style="text-align: center\;">\n	<br />\n	<br />\n	<span style="font-size: 12px\;"><b><i><font color="#221e1f" face="Minion Pro\,Minion Pro"><font color="#221e1f" face="Minion Pro\,Minion Pro"><font color="#221e1f" face="Minion Pro\,Minion Pro">&nbsp\;</font></font></font></i></b></span></p>\n<p style="text-align: center\;">\n	<span style="font-size: 12px\;"><b><i><font color="#221e1f" face="Minion Pro\,Minion Pro"><font color="#221e1f" face="Minion Pro\,Minion Pro">&nbsp\;</font></font></i></b></span></p>\n<p style="text-align: center\;">\n	<span style="font-size: 12px\;"><b><i><font color="#221e1f" face="Minion Pro\,Minion Pro">&nbsp\;</font></i></b></span></p>\n<p style="text-align: center\;">\n	<span style="font-size: 12px\;"><b><i>&nbsp\;</i></b></span></p>\n<p style="text-align: center\;">\n	<span style="font-size: 12px\;"><b>&nbsp\;</b></span></p>\n<p style="text-align: center\;">\n	<span style="font-size: 12px\;">&nbsp\;</span></p>\n<p style="text-align: center\;">\n	&nbsp\;</p>\n
LOCATION:Burnsville High School
UID:e.411.666713
SEQUENCE:3
DTSTAMP:20260426T004435Z
URL:http://dev.setupsite.burnsvillechamber.com/events/details/real-world-ready-career-day-10-23-2013-666713
END:VEVENT

END:VCALENDAR
