BEGIN:VCALENDAR
VERSION:2.0
PRODID:-//ChamberMaster//Event Calendar 2.0//EN
METHOD:PUBLISH
X-PUBLISHED-TTL:P3D
REFRESH-INTERVAL:P3D
CALSCALE:GREGORIAN
BEGIN:VEVENT
DTSTART:20150113T160000Z
DTEND:20150113T170000Z
X-MICROSOFT-CDO-ALLDAYEVENT:FALSE
SUMMARY:Ribbon Cutting @ Welcyon - Fitness After 50
DESCRIPTION:Help us welcome one of our newer Chamber members\, Welcyon-Fitness After 50\, by attending their grand opening\, ribbon cutting celebration!
X-ALT-DESC;FMTTYPE=text/html:Help us welcome one of our newer Chamber members\, Welcyon-Fitness After 50\, by attending their grand opening\, ribbon cutting celebration!
LOCATION:Welcyon - Fitness After 50 14635 County Road 11 Burnsville www.welcyon.com/burnsville
UID:e.411.666901
SEQUENCE:3
DTSTAMP:20260424T225343Z
URL:http://dev.setupsite.burnsvillechamber.com/events/details/ribbon-cutting-welcyon-fitness-after-50-01-13-2015-666901
END:VEVENT

END:VCALENDAR
