BEGIN:VCALENDAR
VERSION:2.0
PRODID:-//ChamberMaster//Event Calendar 2.0//EN
METHOD:PUBLISH
X-PUBLISHED-TTL:P3D
REFRESH-INTERVAL:P3D
CALSCALE:GREGORIAN
BEGIN:VEVENT
DTSTART:20131016T124500Z
DTEND:20131016T150000Z
X-MICROSOFT-CDO-ALLDAYEVENT:FALSE
SUMMARY:Seminar: Improving your Leadership Communication
DESCRIPTION:The Lakeville Chamber of Commerce invites members of the Burnsville Chamber of Commerce to attend this breakfast seminar on Wednesday\, October 16. Hear from guest speaker\, Jim Bohn\, Pro/Axios on Improving your Leadership Communication. Click here for additional information.
X-ALT-DESC;FMTTYPE=text/html:<span style="font-family: &quot\;Arial&quot\;\,&quot\;sans-serif&quot\;\; font-size: 11pt\; mso-fareast-font-family: &quot\;Times New Roman&quot\;\; mso-ansi-language: EN-US\; mso-fareast-language: EN-US\; mso-bidi-language: AR-SA\;"><span style="color: rgb(0\, 0\, 0)\;">The Lakeville Chamber of Commerce invites members of the Burnsville Chamber of Commerce to attend this breakfast seminar on Wednesday\, October 16. Hear from guest speaker\, Jim Bohn\, Pro/Axios on Improving your Leadership Communication. Click </span><a href="http://r20.rs6.net/tn.jsp?e=001nuKx1L7KC92hqua2eiF_ewJp54_JP9-lWFR-C4BkSoxoE02SByyWnz9iWCtRPCXCR2R8gr2lLk7k3UtwuOnY8YGywtfr4Mal2EJf9yEDC8gyOQ_fk_lEy6S_O2HzIkwjUJ6ZDW5mBn7Lf4qUtyeRN-VlvNxoA9Ymucianrl_vzAAmE-ywsYKpWm543zK029DKFyZFbL2ewaj8anRIETvtw==" linktype="document" ref="ACCOUNT.DOCUMENT.490" shape="rect" target="_blank" track="on"><span style="color: rgb(0\, 0\, 0)\;">here</span></a><span style="color: rgb(0\, 0\, 0)\;"> for additional information.</span></span>
LOCATION:Buck Hill 15400 Buck Hill Road Burnsville\, MN 55337
UID:e.411.666711
SEQUENCE:3
DTSTAMP:20260426T022559Z
URL:http://dev.setupsite.burnsvillechamber.com/events/details/seminar-improving-your-leadership-communication-10-16-2013-666711
END:VEVENT

END:VCALENDAR
