BEGIN:VCALENDAR
VERSION:2.0
PRODID:-//ChamberMaster//Event Calendar 2.0//EN
METHOD:PUBLISH
X-PUBLISHED-TTL:P3D
REFRESH-INTERVAL:P3D
CALSCALE:GREGORIAN
BEGIN:VEVENT
DTSTART:20150225T133000Z
DTEND:20150225T150000Z
X-MICROSOFT-CDO-ALLDAYEVENT:FALSE
SUMMARY:SMYPros February Event - Everyone Communicates\, Few Connect
DESCRIPTION:Kraus Anderson Insurance\, SMYPros Series Sponsor\, and US Federal\, Event Sponsor present...\n\n\n\nJoin the SMYPros ("South Metro Young Professionals") in hearing from an Independent Leadership Development coach on how "Everyone Communicates\, Few Connect".  Curt Thomas is a coach\, trainer and speaker who has been certified by the John C. Maxwell Company.  For those of you who might not be familiar with Dr. Maxwell\, he has written 52 books on leadership and is widely acknowledged as the number one Leadership Guru in the world.  He and his team have trained more than 5\,000\,000 leaders worldwide.\n\n\n\nRSVP to the Burnsville Chamber - 952.435.6000 or jina@burnsvillechamber.com
X-ALT-DESC;FMTTYPE=text/html:Kraus Anderson Insurance\, SMYPros Series Sponsor\, and US Federal\, Event Sponsor present...<br />\n<br />\nJoin the SMYPros (&quot\;South Metro Young Professionals&quot\;) in hearing from an Independent Leadership Development coach on how &quot\;Everyone Communicates\, Few Connect&quot\;.&nbsp\; Curt Thomas is a coach\, trainer and speaker who has been certified by the John C. Maxwell Company.&nbsp\; For those of you who might not be familiar with Dr. Maxwell\, he has written 52 books on leadership and is widely acknowledged as the number one Leadership Guru in the world.&nbsp\; He and his team have trained more than 5\,000\,000 leaders worldwide.<br />\n<br />\nRSVP to the Burnsville Chamber - 952.435.6000 or <a href="mailto:jina@burnsvillechamber.com">jina@burnsvillechamber.com</a>
LOCATION:US Federal Offices 1400 Riverwood Drive Burnsville\, MN
UID:e.411.666921
SEQUENCE:3
DTSTAMP:20260424T210723Z
URL:http://dev.setupsite.burnsvillechamber.com/events/details/smypros-february-event-everyone-communicates-few-connect-02-25-2015-666921
END:VEVENT

END:VCALENDAR
