BEGIN:VCALENDAR
VERSION:2.0
PRODID:-//ChamberMaster//Event Calendar 2.0//EN
METHOD:PUBLISH
X-PUBLISHED-TTL:P3D
REFRESH-INTERVAL:P3D
CALSCALE:GREGORIAN
BEGIN:VEVENT
DTSTART:20141022T123000Z
DTEND:20141022T140000Z
X-MICROSOFT-CDO-ALLDAYEVENT:FALSE
SUMMARY:SMYPros Professional Development Event: Connecting through Networking & 6 Steps to Making Meaningful Connections
DESCRIPTION:Learn practical steps to making meaningful networking connections from strategic to tactical implementation during this hands-on session.  Bring business cards and a warm smile!  Hosted by Rise Kasmirski\, M.A. (Career Strategist who coaches clients to gain Clarity\, Focus and Visibility for career and business success) and Anne Pryor\, M.A. (Meaningful Connector\, Online Brand Strategist\, LinkedIn Coach & Trainer\, Future Mapper and Speaker).
X-ALT-DESC;FMTTYPE=text/html:<span style="font-size: 12pt\;"><span style="font-family: century gothic\,sans-serif\;"><span style="color: rgb(33\, 33\, 32)\;">Learn practical steps to making meaningful networking connections from strategic to tactical implementation during this hands-on session.&nbsp\; Bring business cards and a warm smile!&nbsp\; Hosted by Rise Kasmirski\, M.A. (Career Strategist who coaches clients to gain Clarity\, Focus and Visibility for career and business success) and Anne Pryor\, M.A. (Meaningful Connector\, Online Brand Strategist\, LinkedIn Coach &amp\; Trainer\, Future Mapper and Speaker).</span></span></span>
LOCATION:Argosy University 1515 Central Parkway Eagan\, MN
UID:e.411.666881
SEQUENCE:3
DTSTAMP:20260425T035057Z
URL:http://dev.setupsite.burnsvillechamber.com/events/details/smypros-professional-development-event-connecting-through-networking-6-steps-to-making-meaningful-connections-10-22-2014-666881
END:VEVENT

END:VCALENDAR
