BEGIN:VCALENDAR
VERSION:2.0
PRODID:-//ChamberMaster//Event Calendar 2.0//EN
METHOD:PUBLISH
X-PUBLISHED-TTL:P3D
REFRESH-INTERVAL:P3D
CALSCALE:GREGORIAN
BEGIN:VEVENT
DTSTART:20141026T143000Z
DTEND:20141026T170000Z
X-MICROSOFT-CDO-ALLDAYEVENT:FALSE
SUMMARY:Spare Key Kids' Putt Putt Tournament
DESCRIPTION:Spare Key invite you to join them for this inaugural event! Tickets include 18 holes of putt-putt golf followed by a pizza party with prizes.  On-site registration begins at 9:30 a.m. with a shotgun start on the course at 10 a.m.  Once all teams are through the course\, we will enjoy pizza\, soda and awards.  Grand Slam will have other activities open you may choose to partake in as well.\n\n\n\nAbout Spare Key\n\nWe help families bounce not break.  Spare Key is a Minnesota-based 501c3 non profit dedicated to helping parents with a seriously ill or critically injured child remain part of their son or daughter's care team in the hospital.  We serve families in Minnesota\, North Dakota\, South Dakota and Wisconsin - providing housing grant assistance so parents can focus on their child's recovery.
X-ALT-DESC;FMTTYPE=text/html:Spare Key invite you to join them for this inaugural event! Tickets include 18 holes of putt-putt golf followed by a pizza party with prizes.&nbsp\; On-site registration begins at 9:30 a.m. with a shotgun start on the course at 10 a.m.&nbsp\; Once all teams are through the course\, we will enjoy pizza\, soda and awards.&nbsp\; Grand Slam will have other activities open you may choose to partake in as well.<br />\n<br />\nAbout Spare Key<br />\nWe help families bounce not break.&nbsp\; Spare Key is a Minnesota-based 501c3 non profit dedicated to helping parents with a seriously ill or critically injured child remain part of their son or daughter&#39\;s care team in the hospital.&nbsp\; We serve families in Minnesota\, North Dakota\, South Dakota and Wisconsin - providing housing grant assistance so parents can focus on their child&#39\;s recovery.
LOCATION:Grand Slam 12425 River Ridge Blvd Burnsville\, MN 55337
UID:e.411.666868
SEQUENCE:3
DTSTAMP:20260425T040410Z
URL:http://dev.setupsite.burnsvillechamber.com/events/details/spare-key-kids-putt-putt-tournament-10-26-2014-666868
END:VEVENT

END:VCALENDAR
