BEGIN:VCALENDAR
VERSION:2.0
PRODID:-//ChamberMaster//Event Calendar 2.0//EN
METHOD:PUBLISH
X-PUBLISHED-TTL:P3D
REFRESH-INTERVAL:P3D
CALSCALE:GREGORIAN
BEGIN:VEVENT
DTSTART:20140501T190000Z
DTEND:20140501T220000Z
X-MICROSOFT-CDO-ALLDAYEVENT:FALSE
SUMMARY:Spring Aging & Wellness Expo
DESCRIPTION:The expo is sponsored by Elder Resource Association South of the River and will feature information on area services for older adults and caregivers. Exhibits will include free health screenings\, information on caregiver resources\, giveaways and door prizes and much more! Other sponsors for this event include BrightStar\, Presbyterian Homes & Services\, ComForcare Senior Services\, Ebenezer and the City of Burnsville.
X-ALT-DESC;FMTTYPE=text/html:The expo is sponsored by Elder Resource Association South of the River and will feature information on area services for older adults and caregivers. Exhibits will include free health screenings\, information on caregiver resources\, giveaways and door prizes and much more! Other sponsors for this event include BrightStar\, Presbyterian Homes &amp\; Services\, ComForcare Senior Services\, Ebenezer and the City of Burnsville.
LOCATION:Burnsville City Hall\, 100 Civic Center Parkway
UID:e.411.666789
SEQUENCE:3
DTSTAMP:20260425T131303Z
URL:http://dev.setupsite.burnsvillechamber.com/events/details/spring-aging-wellness-expo-05-01-2014-666789
END:VEVENT

END:VCALENDAR
