BEGIN:VCALENDAR
VERSION:2.0
PRODID:-//ChamberMaster//Event Calendar 2.0//EN
METHOD:PUBLISH
X-PUBLISHED-TTL:P3D
REFRESH-INTERVAL:P3D
CALSCALE:GREGORIAN
BEGIN:VEVENT
DTSTART:20260518T223000Z
DTEND:20260519T000000Z
X-MICROSOFT-CDO-ALLDAYEVENT:FALSE
SUMMARY:2026 MEMBER HOSTED: The Anatomy of Relief: A Wellness Showcase
DESCRIPTION:You've been in your body for a long time and you may have noticed some changes: pain that came on all of a sudden\, joints that don't move as far as they used to\, or an injury that never seems to totally heal. You have heard your family and friends find relief in a variety of modalities\, but you want to make the most effective choice AND be able to understand why it works. \n \n\nWhen something doesn't function properly\, we often seek Western medicine that views the anatomical body as a machine and repair the pieces of that machine: bones to give us structure\, muscles to move that structure\, and organs to make the machine come alive.\n \n\nWe have gathered three local practitioners and Burnsville Chamber of Commerce members who want to share how the human body works and how their care can help you move and function with better ease.\n \n\nDr. Haley Balego of Peak Performance Chiropractic Center will help us understand when to seek a chiropractor for care\, what will make your adjustment last longer\, and chiropractic misconceptions. She'll show you what restricted mobility in joints looks like as well as do a live demonstration of an adjustment.\n \n\nMelanie Franke of Vital Energy Physical Therapy will explain how fascia\, the connective tissue throughout our entire body\, plays a crucial role in how bodies move and function. She'll illustrate what stuck fasica feels like\, how it got to be that way\, what we can do to attend to our fascia\, and the investigator role she plays to restore more complex issues. \n \n\nMargaret Selva of Forest Floor Wellness will take you through why sauna has been such a fundamental part of healthy cultures and the physical benefits that lie within the heat and cold. You'll feel what it's like to be in the sauna with additional tools such as steam and whisks.\n \n\nThis is for general education purposes. If you are interested in personalized diagnosis or treatment\, we suggest that you make an appointment with our practitioners.
X-ALT-DESC;FMTTYPE=text/html:<p><span style="background-color:transparent\; color:rgb(0\, 0\, 0)\; font-family:arial\,sans-serif\; font-size:11pt">You&rsquo\;ve been in your body for a long time and you may have noticed some changes: pain that came on all of a sudden\, joints that don&rsquo\;t move as far as they used to\, or an injury that never seems to totally heal. You have heard your family and friends find relief in a variety of modalities\, but you want to make the most effective choice AND be able to understand why it works.&nbsp\;</span></p>\n&nbsp\;\n\n<p><span style="background-color:transparent\; color:rgb(0\, 0\, 0)\; font-family:arial\,sans-serif\; font-size:11pt">When something doesn&rsquo\;t function properly\, we often seek Western medicine that views the anatomical body as a machine and repair the pieces of that machine: bones to give us structure\, muscles to move that structure\, and organs to make the machine come alive.</span></p>\n&nbsp\;\n\n<p><span style="background-color:transparent\; color:rgb(0\, 0\, 0)\; font-family:arial\,sans-serif\; font-size:11pt">We have gathered three local practitioners and Burnsville Chamber of Commerce members who want to share how the human body works and how their care can help you move and function with better ease.</span></p>\n&nbsp\;\n\n<p><span style="background-color:transparent\; color:rgb(0\, 0\, 0)\; font-family:arial\,sans-serif\; font-size:11pt"><strong>Dr. Haley Balego of Peak Performance Chiropractic Center</strong> will help us understand when to seek a chiropractor for care\, what will make your adjustment last longer\, and chiropractic misconceptions. She&rsquo\;ll show you what restricted mobility in joints looks like as well as do a live demonstration of an adjustment.</span></p>\n&nbsp\;\n\n<p><span style="background-color:transparent\; color:rgb(0\, 0\, 0)\; font-family:arial\,sans-serif\; font-size:11pt"><strong>Melanie Franke of Vital Energy Physical Therapy</strong> will explain how fascia\, the connective tissue throughout our entire body\, plays a crucial role in how bodies move and function. She&rsquo\;ll illustrate what stuck fasica feels like\, how it got to be that way\, what we can do to attend to our fascia\, and the investigator role she plays to restore more complex issues.&nbsp\;</span></p>\n&nbsp\;\n\n<p><span style="background-color:transparent\; color:rgb(0\, 0\, 0)\; font-family:arial\,sans-serif\; font-size:11pt"><strong>Margaret Selva of Forest Floor Wellness</strong> will take you through why sauna has been such a fundamental part of healthy cultures and the physical benefits that lie within the heat and cold. You&rsquo\;ll feel what it&rsquo\;s like to be in the sauna with additional tools such as steam and whisks.</span></p>\n&nbsp\;\n\n<p><span style="font-size:12px"><span style="background-color:transparent\; color:rgb(0\, 0\, 0)\; font-family:arial\,sans-serif">This is for general education purposes. If you are interested in personalized diagnosis or treatment\, we suggest that you make an appointment with our practitioners.</span></span></p>\n
LOCATION:Forest Floor Wellness 14573 Grand Ave Burnsville\, MN 55304
UID:e.411.670889
SEQUENCE:3
DTSTAMP:20260425T102746Z
URL:http://dev.setupsite.burnsvillechamber.com/events/details/the-anatomy-of-relief-a-wellness-showcase-670889
END:VEVENT

END:VCALENDAR
