BEGIN:VCALENDAR
VERSION:2.0
PRODID:-//ChamberMaster//Event Calendar 2.0//EN
METHOD:PUBLISH
X-PUBLISHED-TTL:P3D
REFRESH-INTERVAL:P3D
CALSCALE:GREGORIAN
BEGIN:VEVENT
DTSTART:20140426T123000Z
DTEND:20140426T153000Z
X-MICROSOFT-CDO-ALLDAYEVENT:FALSE
SUMMARY:Tree\, Native Shrub and Plant Sale
DESCRIPTION:The City of Burnsville will once again be selling hundreds of bare root trees\, native shrubs and plants at its annual tree sale. (Open to Burnsville residents only.  Identification will be checked.)
X-ALT-DESC;FMTTYPE=text/html:The City of Burnsville will once again be selling hundreds of bare root trees\, native shrubs and plants at its annual tree sale. (Open to Burnsville residents only.&nbsp\;&nbsp\;Identification will be checked.)
LOCATION:City's former Maintenance Facility\, 75 Civic Center Parkway
UID:e.411.666788
SEQUENCE:3
DTSTAMP:20260425T144951Z
URL:http://dev.setupsite.burnsvillechamber.com/events/details/tree-native-shrub-and-plant-sale-04-26-2014-666788
END:VEVENT

END:VCALENDAR
